Workbook

Sheet Competencias
A1: Contratista | B1: Apellido y nombre | C1: DNI | D1: Tarea o rol | E1: Inducción del sitio: vence | F1: Inducción del sitio: estado | G1: Uso de EPP: vence | H1: Uso de EPP: estado | I1: Trabajo en altura: vence | J1: Trabajo en altura: estado | K1: Trabajo en caliente: vence | L1: Trabajo en caliente: estado | M1: Riesgo eléctrico y bloqueo: vence | N1: Riesgo eléctrico y bloqueo: estado | O1: Licencia o matrícula: vence | P1: Licencia o matrícula: estado | Q1: Estado de la persona
A2: Montajes Industriales | B2: Díaz, Hernán | C2: 28345111 | D2: Soldador en altura | E2: 46398 | F2: =IF(AND(COUNTA($A2:$D2)=0,E2=""),"",IF(COUNT(Resumen!$B$3:$B$4)<2,"Revisar",IFERROR(IF(INDEX(Tareas!$B:$B,MATCH($D2,Tareas!$A:$A,0))="Sí",IF(E2="","Falta",IF(COUNT(E2)=0,"Revisar",IF(E2<Resumen!$B$3,"Vencida",IF(E2<=Resumen!$B$3+Resumen!$B$4,"Por vencer","Vigente")))),IF(INDEX(Tareas!$B:$B,MATCH($D2,Tareas!$A:$A,0))="No","No aplica","Revisar")),"Revisar"))) -> Vigente | G2: 46398 | H2: =IF(AND(COUNTA($A2:$D2)=0,G2=""),"",IF(COUNT(Resumen!$B$3:$B$4)<2,"Revisar",IFERROR(IF(INDEX(Tareas!$C:$C,MATCH($D2,Tareas!$A:$A,0))="Sí",IF(G2="","Falta",IF(COUNT(G2)=0,"Revisar",IF(G2<Resumen!$B$3,"Vencida",IF(G2<=Resumen!$B$3+Resumen!$B$4,"Por vencer","Vigente")))),IF(INDEX(Tareas!$C:$C,MATCH($D2,Tareas!$A:$A,0))="No","No aplica","Revisar")),"Revisar"))) -> Vigente | I2: 46252 | J2: =IF(AND(COUNTA($A2:$D2)=0,I2=""),"",IF(COUNT(Resumen!$B$3:$B$4)<2,"Revisar",IFERROR(IF(INDEX(Tareas!$D:$D,MATCH($D2,Tareas!$A:$A,0))="Sí",IF(I2="","Falta",IF(COUNT(I2)=0,"Revisar",IF(I2<Resumen!$B$3,"Vencida",IF(I2<=Resumen!$B$3+Resumen!$B$4,"Por vencer","Vigente")))),IF(INDEX(Tareas!$D:$D,MATCH($D2,Tareas!$A:$A,0))="No","No aplica","Revisar")),"Revisar"))) -> Por vencer | K2: 46454 | L2: =IF(AND(COUNTA($A2:$D2)=0,K2=""),"",IF(COUNT(Resumen!$B$3:$B$4)<2,"Revisar",IFERROR(IF(INDEX(Tareas!$E:$E,MATCH($D2,Tareas!$A:$A,0))="Sí",IF(K2="","Falta",IF(COUNT(K2)=0,"Revisar",IF(K2<Resumen!$B$3,"Vencida",IF(K2<=Resumen!$B$3+Resumen!$B$4,"Por vencer","Vigente")))),IF(INDEX(Tareas!$E:$E,MATCH($D2,Tareas!$A:$A,0))="No","No aplica","Revisar")),"Revisar"))) -> Vigente | N2: =IF(AND(COUNTA($A2:$D2)=0,M2=""),"",IF(COUNT(Resumen!$B$3:$B$4)<2,"Revisar",IFERROR(IF(INDEX(Tareas!$F:$F,MATCH($D2,Tareas!$A:$A,0))="Sí",IF(M2="","Falta",IF(COUNT(M2)=0,"Revisar",IF(M2<Resumen!$B$3,"Vencida",IF(M2<=Resumen!$B$3+Resumen!$B$4,"Por vencer","Vigente")))),IF(INDEX(Tareas!$F:$F,MATCH($D2,Tareas!$A:$A,0))="No","No aplica","Revisar")),"Revisar"))) -> No aplica | P2: =IF(AND(COUNTA($A2:$D2)=0,O2=""),"",IF(COUNT(Resumen!$B$3:$B$4)<2,"Revisar",IFERROR(IF(INDEX(Tareas!$G:$G,MATCH($D2,Tareas!$A:$A,0))="Sí",IF(O2="","Falta",IF(COUNT(O2)=0,"Revisar",IF(O2<Resumen!$B$3,"Vencida",IF(O2<=Resumen!$B$3+Resumen!$B$4,"Por vencer","Vigente")))),IF(INDEX(Tareas!$G:$G,MATCH($D2,Tareas!$A:$A,0))="No","No aplica","Revisar")),"Revisar"))) -> No aplica | Q2: =IF(COUNTA($A2:$D2)+COUNTIF(E2:P2,"Revisar")=0,"",IF(OR(A2="",B2="",COUNTIF(E2:P2,"Revisar")>0),"Revisar",IF(COUNTIF(E2:P2,"Falta")+COUNTIF(E2:P2,"Vencida")>0,"Con faltantes",IF(COUNTIF(E2:P2,"Por vencer")>0,"Por vencer","Al día")))) -> Por vencer
A3: Montajes Industriales | B3: Medina, Pablo | C3: 30111222 | D3: Trabajo en altura | E3: 46591 | F3: =IF(AND(COUNTA($A3:$D3)=0,E3=""),"",IF(COUNT(Resumen!$B$3:$B$4)<2,"Revisar",IFERROR(IF(INDEX(Tareas!$B:$B,MATCH($D3,Tareas!$A:$A,0))="Sí",IF(E3="","Falta",IF(COUNT(E3)=0,"Revisar",IF(E3<Resumen!$B$3,"Vencida",IF(E3<=Resumen!$B$3+Resumen!$B$4,"Por vencer","Vigente")))),IF(INDEX(Tareas!$B:$B,MATCH($D3,Tareas!$A:$A,0))="No","No aplica","Revisar")),"Revisar"))) -> Vigente | G3: 46356 | H3: =IF(AND(COUNTA($A3:$D3)=0,G3=""),"",IF(COUNT(Resumen!$B$3:$B$4)<2,"Revisar",IFERROR(IF(INDEX(Tareas!$C:$C,MATCH($D3,Tareas!$A:$A,0))="Sí",IF(G3="","Falta",IF(COUNT(G3)=0,"Revisar",IF(G3<Resumen!$B$3,"Vencida",IF(G3<=Resumen!$B$3+Resumen!$B$4,"Por vencer","Vigente")))),IF(INDEX(Tareas!$C:$C,MATCH($D3,Tareas!$A:$A,0))="No","No aplica","Revisar")),"Revisar"))) -> Vigente | I3: 46582 | J3: =IF(AND(COUNTA($A3:$D3)=0,I3=""),"",IF(COUNT(Resumen!$B$3:$B$4)<2,"Revisar",IFERROR(IF(INDEX(Tareas!$D:$D,MATCH($D3,Tareas!$A:$A,0))="Sí",IF(I3="","Falta",IF(COUNT(I3)=0,"Revisar",IF(I3<Resumen!$B$3,"Vencida",IF(I3<=Resumen!$B$3+Resumen!$B$4,"Por vencer","Vigente")))),IF(INDEX(Tareas!$D:$D,MATCH($D3,Tareas!$A:$A,0))="No","No aplica","Revisar")),"Revisar"))) -> Vigente | L3: =IF(AND(COUNTA($A3:$D3)=0,K3=""),"",IF(COUNT(Resumen!$B$3:$B$4)<2,"Revisar",IFERROR(IF(INDEX(Tareas!$E:$E,MATCH($D3,Tareas!$A:$A,0))="Sí",IF(K3="","Falta",IF(COUNT(K3)=0,"Revisar",IF(K3<Resumen!$B$3,"Vencida",IF(K3<=Resumen!$B$3+Resumen!$B$4,"Por vencer","Vigente")))),IF(INDEX(Tareas!$E:$E,MATCH($D3,Tareas!$A:$A,0))="No","No aplica","Revisar")),"Revisar"))) -> No aplica | N3: =IF(AND(COUNTA($A3:$D3)=0,M3=""),"",IF(COUNT(Resumen!$B$3:$B$4)<2,"Revisar",IFERROR(IF(INDEX(Tareas!$F:$F,MATCH($D3,Tareas!$A:$A,0))="Sí",IF(M3="","Falta",IF(COUNT(M3)=0,"Revisar",IF(M3<Resumen!$B$3,"Vencida",IF(M3<=Resumen!$B$3+Resumen!$B$4,"Por vencer","Vigente")))),IF(INDEX(Tareas!$F:$F,MATCH($D3,Tareas!$A:$A,0))="No","No aplica","Revisar")),"Revisar"))) -> No aplica | P3: =IF(AND(COUNTA($A3:$D3)=0,O3=""),"",IF(COUNT(Resumen!$B$3:$B$4)<2,"Revisar",IFERROR(IF(INDEX(Tareas!$G:$G,MATCH($D3,Tareas!$A:$A,0))="Sí",IF(O3="","Falta",IF(COUNT(O3)=0,"Revisar",IF(O3<Resumen!$B$3,"Vencida",IF(O3<=Resumen!$B$3+Resumen!$B$4,"Por vencer","Vigente")))),IF(INDEX(Tareas!$G:$G,MATCH($D3,Tareas!$A:$A,0))="No","No aplica","Revisar")),"Revisar"))) -> No aplica | Q3: =IF(COUNTA($A3:$D3)+COUNTIF(E3:P3,"Revisar")=0,"",IF(OR(A3="",B3="",COUNTIF(E3:P3,"Revisar")>0),"Revisar",IF(COUNTIF(E3:P3,"Falta")+COUNTIF(E3:P3,"Vencida")>0,"Con faltantes",IF(COUNTIF(E3:P3,"Por vencer")>0,"Por vencer","Al día")))) -> Al día
A4: Montajes Industriales | B4: Ledesma, Sergio | C4: 25999888 | D4: Soldador | E4: 46344 | F4: =IF(AND(COUNTA($A4:$D4)=0,E4=""),"",IF(COUNT(Resumen!$B$3:$B$4)<2,"Revisar",IFERROR(IF(INDEX(Tareas!$B:$B,MATCH($D4,Tareas!$A:$A,0))="Sí",IF(E4="","Falta",IF(COUNT(E4)=0,"Revisar",IF(E4<Resumen!$B$3,"Vencida",IF(E4<=Resumen!$B$3+Resumen!$B$4,"Por vencer","Vigente")))),IF(INDEX(Tareas!$B:$B,MATCH($D4,Tareas!$A:$A,0))="No","No aplica","Revisar")),"Revisar"))) -> Vigente | G4: 46344 | H4: =IF(AND(COUNTA($A4:$D4)=0,G4=""),"",IF(COUNT(Resumen!$B$3:$B$4)<2,"Revisar",IFERROR(IF(INDEX(Tareas!$C:$C,MATCH($D4,Tareas!$A:$A,0))="Sí",IF(G4="","Falta",IF(COUNT(G4)=0,"Revisar",IF(G4<Resumen!$B$3,"Vencida",IF(G4<=Resumen!$B$3+Resumen!$B$4,"Por vencer","Vigente")))),IF(INDEX(Tareas!$C:$C,MATCH($D4,Tareas!$A:$A,0))="No","No aplica","Revisar")),"Revisar"))) -> Vigente | J4: =IF(AND(COUNTA($A4:$D4)=0,I4=""),"",IF(COUNT(Resumen!$B$3:$B$4)<2,"Revisar",IFERROR(IF(INDEX(Tareas!$D:$D,MATCH($D4,Tareas!$A:$A,0))="Sí",IF(I4="","Falta",IF(COUNT(I4)=0,"Revisar",IF(I4<Resumen!$B$3,"Vencida",IF(I4<=Resumen!$B$3+Resumen!$B$4,"Por vencer","Vigente")))),IF(INDEX(Tareas!$D:$D,MATCH($D4,Tareas!$A:$A,0))="No","No aplica","Revisar")),"Revisar"))) -> No aplica | K4: 46202 | L4: =IF(AND(COUNTA($A4:$D4)=0,K4=""),"",IF(COUNT(Resumen!$B$3:$B$4)<2,"Revisar",IFERROR(IF(INDEX(Tareas!$E:$E,MATCH($D4,Tareas!$A:$A,0))="Sí",IF(K4="","Falta",IF(COUNT(K4)=0,"Revisar",IF(K4<Resumen!$B$3,"Vencida",IF(K4<=Resumen!$B$3+Resumen!$B$4,"Por vencer","Vigente")))),IF(INDEX(Tareas!$E:$E,MATCH($D4,Tareas!$A:$A,0))="No","No aplica","Revisar")),"Revisar"))) -> Vencida | N4: =IF(AND(COUNTA($A4:$D4)=0,M4=""),"",IF(COUNT(Resumen!$B$3:$B$4)<2,"Revisar",IFERROR(IF(INDEX(Tareas!$F:$F,MATCH($D4,Tareas!$A:$A,0))="Sí",IF(M4="","Falta",IF(COUNT(M4)=0,"Revisar",IF(M4<Resumen!$B$3,"Vencida",IF(M4<=Resumen!$B$3+Resumen!$B$4,"Por vencer","Vigente")))),IF(INDEX(Tareas!$F:$F,MATCH($D4,Tareas!$A:$A,0))="No","No aplica","Revisar")),"Revisar"))) -> No aplica | P4: =IF(AND(COUNTA($A4:$D4)=0,O4=""),"",IF(COUNT(Resumen!$B$3:$B$4)<2,"Revisar",IFERROR(IF(INDEX(Tareas!$G:$G,MATCH($D4,Tareas!$A:$A,0))="Sí",IF(O4="","Falta",IF(COUNT(O4)=0,"Revisar",IF(O4<Resumen!$B$3,"Vencida",IF(O4<=Resumen!$B$3+Resumen!$B$4,"Por vencer","Vigente")))),IF(INDEX(Tareas!$G:$G,MATCH($D4,Tareas!$A:$A,0))="No","No aplica","Revisar")),"Revisar"))) -> No aplica | Q4: =IF(COUNTA($A4:$D4)+COUNTIF(E4:P4,"Revisar")=0,"",IF(OR(A4="",B4="",COUNTIF(E4:P4,"Revisar")>0),"Revisar",IF(COUNTIF(E4:P4,"Falta")+COUNTIF(E4:P4,"Vencida")>0,"Con faltantes",IF(COUNTIF(E4:P4,"Por vencer")>0,"Por vencer","Al día")))) -> Con faltantes
A5: Montajes Industriales | B5: Ferreyra, Gustavo | C5: 32444555 | D5: Operador de autoelevador | E5: 46422 | F5: =IF(AND(COUNTA($A5:$D5)=0,E5=""),"",IF(COUNT(Resumen!$B$3:$B$4)<2,"Revisar",IFERROR(IF(INDEX(Tareas!$B:$B,MATCH($D5,Tareas!$A:$A,0))="Sí",IF(E5="","Falta",IF(COUNT(E5)=0,"Revisar",IF(E5<Resumen!$B$3,"Vencida",IF(E5<=Resumen!$B$3+Resumen!$B$4,"Por vencer","Vigente")))),IF(INDEX(Tareas!$B:$B,MATCH($D5,Tareas!$A:$A,0))="No","No aplica","Revisar")),"Revisar"))) -> Vigente | G5: 46422 | H5: =IF(AND(COUNTA($A5:$D5)=0,G5=""),"",IF(COUNT(Resumen!$B$3:$B$4)<2,"Revisar",IFERROR(IF(INDEX(Tareas!$C:$C,MATCH($D5,Tareas!$A:$A,0))="Sí",IF(G5="","Falta",IF(COUNT(G5)=0,"Revisar",IF(G5<Resumen!$B$3,"Vencida",IF(G5<=Resumen!$B$3+Resumen!$B$4,"Por vencer","Vigente")))),IF(INDEX(Tareas!$C:$C,MATCH($D5,Tareas!$A:$A,0))="No","No aplica","Revisar")),"Revisar"))) -> Vigente | J5: =IF(AND(COUNTA($A5:$D5)=0,I5=""),"",IF(COUNT(Resumen!$B$3:$B$4)<2,"Revisar",IFERROR(IF(INDEX(Tareas!$D:$D,MATCH($D5,Tareas!$A:$A,0))="Sí",IF(I5="","Falta",IF(COUNT(I5)=0,"Revisar",IF(I5<Resumen!$B$3,"Vencida",IF(I5<=Resumen!$B$3+Resumen!$B$4,"Por vencer","Vigente")))),IF(INDEX(Tareas!$D:$D,MATCH($D5,Tareas!$A:$A,0))="No","No aplica","Revisar")),"Revisar"))) -> No aplica | L5: =IF(AND(COUNTA($A5:$D5)=0,K5=""),"",IF(COUNT(Resumen!$B$3:$B$4)<2,"Revisar",IFERROR(IF(INDEX(Tareas!$E:$E,MATCH($D5,Tareas!$A:$A,0))="Sí",IF(K5="","Falta",IF(COUNT(K5)=0,"Revisar",IF(K5<Resumen!$B$3,"Vencida",IF(K5<=Resumen!$B$3+Resumen!$B$4,"Por vencer","Vigente")))),IF(INDEX(Tareas!$E:$E,MATCH($D5,Tareas!$A:$A,0))="No","No aplica","Revisar")),"Revisar"))) -> No aplica | N5: =IF(AND(COUNTA($A5:$D5)=0,M5=""),"",IF(COUNT(Resumen!$B$3:$B$4)<2,"Revisar",IFERROR(IF(INDEX(Tareas!$F:$F,MATCH($D5,Tareas!$A:$A,0))="Sí",IF(M5="","Falta",IF(COUNT(M5)=0,"Revisar",IF(M5<Resumen!$B$3,"Vencida",IF(M5<=Resumen!$B$3+Resumen!$B$4,"Por vencer","Vigente")))),IF(INDEX(Tareas!$F:$F,MATCH($D5,Tareas!$A:$A,0))="No","No aplica","Revisar")),"Revisar"))) -> No aplica | O5: 46260 | P5: =IF(AND(COUNTA($A5:$D5)=0,O5=""),"",IF(COUNT(Resumen!$B$3:$B$4)<2,"Revisar",IFERROR(IF(INDEX(Tareas!$G:$G,MATCH($D5,Tareas!$A:$A,0))="Sí",IF(O5="","Falta",IF(COUNT(O5)=0,"Revisar",IF(O5<Resumen!$B$3,"Vencida",IF(O5<=Resumen!$B$3+Resumen!$B$4,"Por vencer","Vigente")))),IF(INDEX(Tareas!$G:$G,MATCH($D5,Tareas!$A:$A,0))="No","No aplica","Revisar")),"Revisar"))) -> Por vencer | Q5: =IF(COUNTA($A5:$D5)+COUNTIF(E5:P5,"Revisar")=0,"",IF(OR(A5="",B5="",COUNTIF(E5:P5,"Revisar")>0),"Revisar",IF(COUNTIF(E5:P5,"Falta")+COUNTIF(E5:P5,"Vencida")>0,"Con faltantes",IF(COUNTIF(E5:P5,"Por vencer")>0,"Por vencer","Al día")))) -> Por vencer
A6: Montajes Industriales | B6: Acosta, Ramiro | C6: 35222333 | D6: Trabajo en altura | F6: =IF(AND(COUNTA($A6:$D6)=0,E6=""),"",IF(COUNT(Resumen!$B$3:$B$4)<2,"Revisar",IFERROR(IF(INDEX(Tareas!$B:$B,MATCH($D6,Tareas!$A:$A,0))="Sí",IF(E6="","Falta",IF(COUNT(E6)=0,"Revisar",IF(E6<Resumen!$B$3,"Vencida",IF(E6<=Resumen!$B$3+Resumen!$B$4,"Por vencer","Vigente")))),IF(INDEX(Tareas!$B:$B,MATCH($D6,Tareas!$A:$A,0))="No","No aplica","Revisar")),"Revisar"))) -> Falta | H6: =IF(AND(COUNTA($A6:$D6)=0,G6=""),"",IF(COUNT(Resumen!$B$3:$B$4)<2,"Revisar",IFERROR(IF(INDEX(Tareas!$C:$C,MATCH($D6,Tareas!$A:$A,0))="Sí",IF(G6="","Falta",IF(COUNT(G6)=0,"Revisar",IF(G6<Resumen!$B$3,"Vencida",IF(G6<=Resumen!$B$3+Resumen!$B$4,"Por vencer","Vigente")))),IF(INDEX(Tareas!$C:$C,MATCH($D6,Tareas!$A:$A,0))="No","No aplica","Revisar")),"Revisar"))) -> Falta | I6: 46505 | J6: =IF(AND(COUNTA($A6:$D6)=0,I6=""),"",IF(COUNT(Resumen!$B$3:$B$4)<2,"Revisar",IFERROR(IF(INDEX(Tareas!$D:$D,MATCH($D6,Tareas!$A:$A,0))="Sí",IF(I6="","Falta",IF(COUNT(I6)=0,"Revisar",IF(I6<Resumen!$B$3,"Vencida",IF(I6<=Resumen!$B$3+Resumen!$B$4,"Por vencer","Vigente")))),IF(INDEX(Tareas!$D:$D,MATCH($D6,Tareas!$A:$A,0))="No","No aplica","Revisar")),"Revisar"))) -> Vigente | L6: =IF(AND(COUNTA($A6:$D6)=0,K6=""),"",IF(COUNT(Resumen!$B$3:$B$4)<2,"Revisar",IFERROR(IF(INDEX(Tareas!$E:$E,MATCH($D6,Tareas!$A:$A,0))="Sí",IF(K6="","Falta",IF(COUNT(K6)=0,"Revisar",IF(K6<Resumen!$B$3,"Vencida",IF(K6<=Resumen!$B$3+Resumen!$B$4,"Por vencer","Vigente")))),IF(INDEX(Tareas!$E:$E,MATCH($D6,Tareas!$A:$A,0))="No","No aplica","Revisar")),"Revisar"))) -> No aplica | N6: =IF(AND(COUNTA($A6:$D6)=0,M6=""),"",IF(COUNT(Resumen!$B$3:$B$4)<2,"Revisar",IFERROR(IF(INDEX(Tareas!$F:$F,MATCH($D6,Tareas!$A:$A,0))="Sí",IF(M6="","Falta",IF(COUNT(M6)=0,"Revisar",IF(M6<Resumen!$B$3,"Vencida",IF(M6<=Resumen!$B$3+Resumen!$B$4,"Por vencer","Vigente")))),IF(INDEX(Tareas!$F:$F,MATCH($D6,Tareas!$A:$A,0))="No","No aplica","Revisar")),"Revisar"))) -> No aplica | P6: =IF(AND(COUNTA($A6:$D6)=0,O6=""),"",IF(COUNT(Resumen!$B$3:$B$4)<2,"Revisar",IFERROR(IF(INDEX(Tareas!$G:$G,MATCH($D6,Tareas!$A:$A,0))="Sí",IF(O6="","Falta",IF(COUNT(O6)=0,"Revisar",IF(O6<Resumen!$B$3,"Vencida",IF(O6<=Resumen!$B$3+Resumen!$B$4,"Por vencer","Vigente")))),IF(INDEX(Tareas!$G:$G,MATCH($D6,Tareas!$A:$A,0))="No","No aplica","Revisar")),"Revisar"))) -> No aplica | Q6: =IF(COUNTA($A6:$D6)+COUNTIF(E6:P6,"Revisar")=0,"",IF(OR(A6="",B6="",COUNTIF(E6:P6,"Revisar")>0),"Revisar",IF(COUNTIF(E6:P6,"Falta")+COUNTIF(E6:P6,"Vencida")>0,"Con faltantes",IF(COUNTIF(E6:P6,"Por vencer")>0,"Por vencer","Al día")))) -> Con faltantes
A7: Limpieza Total | B7: Giménez, Rosa | C7: 22333444 | D7: Limpieza | E7: 46363 | F7: =IF(AND(COUNTA($A7:$D7)=0,E7=""),"",IF(COUNT(Resumen!$B$3:$B$4)<2,"Revisar",IFERROR(IF(INDEX(Tareas!$B:$B,MATCH($D7,Tareas!$A:$A,0))="Sí",IF(E7="","Falta",IF(COUNT(E7)=0,"Revisar",IF(E7<Resumen!$B$3,"Vencida",IF(E7<=Resumen!$B$3+Resumen!$B$4,"Por vencer","Vigente")))),IF(INDEX(Tareas!$B:$B,MATCH($D7,Tareas!$A:$A,0))="No","No aplica","Revisar")),"Revisar"))) -> Vigente | G7: 46363 | H7: =IF(AND(COUNTA($A7:$D7)=0,G7=""),"",IF(COUNT(Resumen!$B$3:$B$4)<2,"Revisar",IFERROR(IF(INDEX(Tareas!$C:$C,MATCH($D7,Tareas!$A:$A,0))="Sí",IF(G7="","Falta",IF(COUNT(G7)=0,"Revisar",IF(G7<Resumen!$B$3,"Vencida",IF(G7<=Resumen!$B$3+Resumen!$B$4,"Por vencer","Vigente")))),IF(INDEX(Tareas!$C:$C,MATCH($D7,Tareas!$A:$A,0))="No","No aplica","Revisar")),"Revisar"))) -> Vigente | J7: =IF(AND(COUNTA($A7:$D7)=0,I7=""),"",IF(COUNT(Resumen!$B$3:$B$4)<2,"Revisar",IFERROR(IF(INDEX(Tareas!$D:$D,MATCH($D7,Tareas!$A:$A,0))="Sí",IF(I7="","Falta",IF(COUNT(I7)=0,"Revisar",IF(I7<Resumen!$B$3,"Vencida",IF(I7<=Resumen!$B$3+Resumen!$B$4,"Por vencer","Vigente")))),IF(INDEX(Tareas!$D:$D,MATCH($D7,Tareas!$A:$A,0))="No","No aplica","Revisar")),"Revisar"))) -> No aplica | L7: =IF(AND(COUNTA($A7:$D7)=0,K7=""),"",IF(COUNT(Resumen!$B$3:$B$4)<2,"Revisar",IFERROR(IF(INDEX(Tareas!$E:$E,MATCH($D7,Tareas!$A:$A,0))="Sí",IF(K7="","Falta",IF(COUNT(K7)=0,"Revisar",IF(K7<Resumen!$B$3,"Vencida",IF(K7<=Resumen!$B$3+Resumen!$B$4,"Por vencer","Vigente")))),IF(INDEX(Tareas!$E:$E,MATCH($D7,Tareas!$A:$A,0))="No","No aplica","Revisar")),"Revisar"))) -> No aplica | N7: =IF(AND(COUNTA($A7:$D7)=0,M7=""),"",IF(COUNT(Resumen!$B$3:$B$4)<2,"Revisar",IFERROR(IF(INDEX(Tareas!$F:$F,MATCH($D7,Tareas!$A:$A,0))="Sí",IF(M7="","Falta",IF(COUNT(M7)=0,"Revisar",IF(M7<Resumen!$B$3,"Vencida",IF(M7<=Resumen!$B$3+Resumen!$B$4,"Por vencer","Vigente")))),IF(INDEX(Tareas!$F:$F,MATCH($D7,Tareas!$A:$A,0))="No","No aplica","Revisar")),"Revisar"))) -> No aplica | P7: =IF(AND(COUNTA($A7:$D7)=0,O7=""),"",IF(COUNT(Resumen!$B$3:$B$4)<2,"Revisar",IFERROR(IF(INDEX(Tareas!$G:$G,MATCH($D7,Tareas!$A:$A,0))="Sí",IF(O7="","Falta",IF(COUNT(O7)=0,"Revisar",IF(O7<Resumen!$B$3,"Vencida",IF(O7<=Resumen!$B$3+Resumen!$B$4,"Por vencer","Vigente")))),IF(INDEX(Tareas!$G:$G,MATCH($D7,Tareas!$A:$A,0))="No","No aplica","Revisar")),"Revisar"))) -> No aplica | Q7: =IF(COUNTA($A7:$D7)+COUNTIF(E7:P7,"Revisar")=0,"",IF(OR(A7="",B7="",COUNTIF(E7:P7,"Revisar")>0),"Revisar",IF(COUNTIF(E7:P7,"Falta")+COUNTIF(E7:P7,"Vencida")>0,"Con faltantes",IF(COUNTIF(E7:P7,"Por vencer")>0,"Por vencer","Al día")))) -> Al día
A8: Limpieza Total | B8: Villalba, Marta | C8: 31234567 | D8: Limpieza | E8: 46532 | F8: =IF(AND(COUNTA($A8:$D8)=0,E8=""),"",IF(COUNT(Resumen!$B$3:$B$4)<2,"Revisar",IFERROR(IF(INDEX(Tareas!$B:$B,MATCH($D8,Tareas!$A:$A,0))="Sí",IF(E8="","Falta",IF(COUNT(E8)=0,"Revisar",IF(E8<Resumen!$B$3,"Vencida",IF(E8<=Resumen!$B$3+Resumen!$B$4,"Por vencer","Vigente")))),IF(INDEX(Tareas!$B:$B,MATCH($D8,Tareas!$A:$A,0))="No","No aplica","Revisar")),"Revisar"))) -> Vigente | G8: 46244 | H8: =IF(AND(COUNTA($A8:$D8)=0,G8=""),"",IF(COUNT(Resumen!$B$3:$B$4)<2,"Revisar",IFERROR(IF(INDEX(Tareas!$C:$C,MATCH($D8,Tareas!$A:$A,0))="Sí",IF(G8="","Falta",IF(COUNT(G8)=0,"Revisar",IF(G8<Resumen!$B$3,"Vencida",IF(G8<=Resumen!$B$3+Resumen!$B$4,"Por vencer","Vigente")))),IF(INDEX(Tareas!$C:$C,MATCH($D8,Tareas!$A:$A,0))="No","No aplica","Revisar")),"Revisar"))) -> Por vencer | J8: =IF(AND(COUNTA($A8:$D8)=0,I8=""),"",IF(COUNT(Resumen!$B$3:$B$4)<2,"Revisar",IFERROR(IF(INDEX(Tareas!$D:$D,MATCH($D8,Tareas!$A:$A,0))="Sí",IF(I8="","Falta",IF(COUNT(I8)=0,"Revisar",IF(I8<Resumen!$B$3,"Vencida",IF(I8<=Resumen!$B$3+Resumen!$B$4,"Por vencer","Vigente")))),IF(INDEX(Tareas!$D:$D,MATCH($D8,Tareas!$A:$A,0))="No","No aplica","Revisar")),"Revisar"))) -> No aplica | L8: =IF(AND(COUNTA($A8:$D8)=0,K8=""),"",IF(COUNT(Resumen!$B$3:$B$4)<2,"Revisar",IFERROR(IF(INDEX(Tareas!$E:$E,MATCH($D8,Tareas!$A:$A,0))="Sí",IF(K8="","Falta",IF(COUNT(K8)=0,"Revisar",IF(K8<Resumen!$B$3,"Vencida",IF(K8<=Resumen!$B$3+Resumen!$B$4,"Por vencer","Vigente")))),IF(INDEX(Tareas!$E:$E,MATCH($D8,Tareas!$A:$A,0))="No","No aplica","Revisar")),"Revisar"))) -> No aplica | N8: =IF(AND(COUNTA($A8:$D8)=0,M8=""),"",IF(COUNT(Resumen!$B$3:$B$4)<2,"Revisar",IFERROR(IF(INDEX(Tareas!$F:$F,MATCH($D8,Tareas!$A:$A,0))="Sí",IF(M8="","Falta",IF(COUNT(M8)=0,"Revisar",IF(M8<Resumen!$B$3,"Vencida",IF(M8<=Resumen!$B$3+Resumen!$B$4,"Por vencer","Vigente")))),IF(INDEX(Tareas!$F:$F,MATCH($D8,Tareas!$A:$A,0))="No","No aplica","Revisar")),"Revisar"))) -> No aplica | P8: =IF(AND(COUNTA($A8:$D8)=0,O8=""),"",IF(COUNT(Resumen!$B$3:$B$4)<2,"Revisar",IFERROR(IF(INDEX(Tareas!$G:$G,MATCH($D8,Tareas!$A:$A,0))="Sí",IF(O8="","Falta",IF(COUNT(O8)=0,"Revisar",IF(O8<Resumen!$B$3,"Vencida",IF(O8<=Resumen!$B$3+Resumen!$B$4,"Por vencer","Vigente")))),IF(INDEX(Tareas!$G:$G,MATCH($D8,Tareas!$A:$A,0))="No","No aplica","Revisar")),"Revisar"))) -> No aplica | Q8: =IF(COUNTA($A8:$D8)+COUNTIF(E8:P8,"Revisar")=0,"",IF(OR(A8="",B8="",COUNTIF(E8:P8,"Revisar")>0),"Revisar",IF(COUNTIF(E8:P8,"Falta")+COUNTIF(E8:P8,"Vencida")>0,"Con faltantes",IF(COUNTIF(E8:P8,"Por vencer")>0,"Por vencer","Al día")))) -> Por vencer
A9: Transportes Río Luján | B9: Quiroga, Walter | C9: 26777111 | D9: Chofer | E9: 46342 | F9: =IF(AND(COUNTA($A9:$D9)=0,E9=""),"",IF(COUNT(Resumen!$B$3:$B$4)<2,"Revisar",IFERROR(IF(INDEX(Tareas!$B:$B,MATCH($D9,Tareas!$A:$A,0))="Sí",IF(E9="","Falta",IF(COUNT(E9)=0,"Revisar",IF(E9<Resumen!$B$3,"Vencida",IF(E9<=Resumen!$B$3+Resumen!$B$4,"Por vencer","Vigente")))),IF(INDEX(Tareas!$B:$B,MATCH($D9,Tareas!$A:$A,0))="No","No aplica","Revisar")),"Revisar"))) -> Vigente | G9: 46342 | H9: =IF(AND(COUNTA($A9:$D9)=0,G9=""),"",IF(COUNT(Resumen!$B$3:$B$4)<2,"Revisar",IFERROR(IF(INDEX(Tareas!$C:$C,MATCH($D9,Tareas!$A:$A,0))="Sí",IF(G9="","Falta",IF(COUNT(G9)=0,"Revisar",IF(G9<Resumen!$B$3,"Vencida",IF(G9<=Resumen!$B$3+Resumen!$B$4,"Por vencer","Vigente")))),IF(INDEX(Tareas!$C:$C,MATCH($D9,Tareas!$A:$A,0))="No","No aplica","Revisar")),"Revisar"))) -> Vigente | J9: =IF(AND(COUNTA($A9:$D9)=0,I9=""),"",IF(COUNT(Resumen!$B$3:$B$4)<2,"Revisar",IFERROR(IF(INDEX(Tareas!$D:$D,MATCH($D9,Tareas!$A:$A,0))="Sí",IF(I9="","Falta",IF(COUNT(I9)=0,"Revisar",IF(I9<Resumen!$B$3,"Vencida",IF(I9<=Resumen!$B$3+Resumen!$B$4,"Por vencer","Vigente")))),IF(INDEX(Tareas!$D:$D,MATCH($D9,Tareas!$A:$A,0))="No","No aplica","Revisar")),"Revisar"))) -> No aplica | L9: =IF(AND(COUNTA($A9:$D9)=0,K9=""),"",IF(COUNT(Resumen!$B$3:$B$4)<2,"Revisar",IFERROR(IF(INDEX(Tareas!$E:$E,MATCH($D9,Tareas!$A:$A,0))="Sí",IF(K9="","Falta",IF(COUNT(K9)=0,"Revisar",IF(K9<Resumen!$B$3,"Vencida",IF(K9<=Resumen!$B$3+Resumen!$B$4,"Por vencer","Vigente")))),IF(INDEX(Tareas!$E:$E,MATCH($D9,Tareas!$A:$A,0))="No","No aplica","Revisar")),"Revisar"))) -> No aplica | N9: =IF(AND(COUNTA($A9:$D9)=0,M9=""),"",IF(COUNT(Resumen!$B$3:$B$4)<2,"Revisar",IFERROR(IF(INDEX(Tareas!$F:$F,MATCH($D9,Tareas!$A:$A,0))="Sí",IF(M9="","Falta",IF(COUNT(M9)=0,"Revisar",IF(M9<Resumen!$B$3,"Vencida",IF(M9<=Resumen!$B$3+Resumen!$B$4,"Por vencer","Vigente")))),IF(INDEX(Tareas!$F:$F,MATCH($D9,Tareas!$A:$A,0))="No","No aplica","Revisar")),"Revisar"))) -> No aplica | O9: 46395 | P9: =IF(AND(COUNTA($A9:$D9)=0,O9=""),"",IF(COUNT(Resumen!$B$3:$B$4)<2,"Revisar",IFERROR(IF(INDEX(Tareas!$G:$G,MATCH($D9,Tareas!$A:$A,0))="Sí",IF(O9="","Falta",IF(COUNT(O9)=0,"Revisar",IF(O9<Resumen!$B$3,"Vencida",IF(O9<=Resumen!$B$3+Resumen!$B$4,"Por vencer","Vigente")))),IF(INDEX(Tareas!$G:$G,MATCH($D9,Tareas!$A:$A,0))="No","No aplica","Revisar")),"Revisar"))) -> Vigente | Q9: =IF(COUNTA($A9:$D9)+COUNTIF(E9:P9,"Revisar")=0,"",IF(OR(A9="",B9="",COUNTIF(E9:P9,"Revisar")>0),"Revisar",IF(COUNTIF(E9:P9,"Falta")+COUNTIF(E9:P9,"Vencida")>0,"Con faltantes",IF(COUNTIF(E9:P9,"Por vencer")>0,"Por vencer","Al día")))) -> Al día
A10: Transportes Río Luján | B10: Aguirre, Jorge | C10: 34666222 | D10: Chofer | E10: 46497 | F10: =IF(AND(COUNTA($A10:$D10)=0,E10=""),"",IF(COUNT(Resumen!$B$3:$B$4)<2,"Revisar",IFERROR(IF(INDEX(Tareas!$B:$B,MATCH($D10,Tareas!$A:$A,0))="Sí",IF(E10="","Falta",IF(COUNT(E10)=0,"Revisar",IF(E10<Resumen!$B$3,"Vencida",IF(E10<=Resumen!$B$3+Resumen!$B$4,"Por vencer","Vigente")))),IF(INDEX(Tareas!$B:$B,MATCH($D10,Tareas!$A:$A,0))="No","No aplica","Revisar")),"Revisar"))) -> Vigente | G10: 46497 | H10: =IF(AND(COUNTA($A10:$D10)=0,G10=""),"",IF(COUNT(Resumen!$B$3:$B$4)<2,"Revisar",IFERROR(IF(INDEX(Tareas!$C:$C,MATCH($D10,Tareas!$A:$A,0))="Sí",IF(G10="","Falta",IF(COUNT(G10)=0,"Revisar",IF(G10<Resumen!$B$3,"Vencida",IF(G10<=Resumen!$B$3+Resumen!$B$4,"Por vencer","Vigente")))),IF(INDEX(Tareas!$C:$C,MATCH($D10,Tareas!$A:$A,0))="No","No aplica","Revisar")),"Revisar"))) -> Vigente | J10: =IF(AND(COUNTA($A10:$D10)=0,I10=""),"",IF(COUNT(Resumen!$B$3:$B$4)<2,"Revisar",IFERROR(IF(INDEX(Tareas!$D:$D,MATCH($D10,Tareas!$A:$A,0))="Sí",IF(I10="","Falta",IF(COUNT(I10)=0,"Revisar",IF(I10<Resumen!$B$3,"Vencida",IF(I10<=Resumen!$B$3+Resumen!$B$4,"Por vencer","Vigente")))),IF(INDEX(Tareas!$D:$D,MATCH($D10,Tareas!$A:$A,0))="No","No aplica","Revisar")),"Revisar"))) -> No aplica | L10: =IF(AND(COUNTA($A10:$D10)=0,K10=""),"",IF(COUNT(Resumen!$B$3:$B$4)<2,"Revisar",IFERROR(IF(INDEX(Tareas!$E:$E,MATCH($D10,Tareas!$A:$A,0))="Sí",IF(K10="","Falta",IF(COUNT(K10)=0,"Revisar",IF(K10<Resumen!$B$3,"Vencida",IF(K10<=Resumen!$B$3+Resumen!$B$4,"Por vencer","Vigente")))),IF(INDEX(Tareas!$E:$E,MATCH($D10,Tareas!$A:$A,0))="No","No aplica","Revisar")),"Revisar"))) -> No aplica | N10: =IF(AND(COUNTA($A10:$D10)=0,M10=""),"",IF(COUNT(Resumen!$B$3:$B$4)<2,"Revisar",IFERROR(IF(INDEX(Tareas!$F:$F,MATCH($D10,Tareas!$A:$A,0))="Sí",IF(M10="","Falta",IF(COUNT(M10)=0,"Revisar",IF(M10<Resumen!$B$3,"Vencida",IF(M10<=Resumen!$B$3+Resumen!$B$4,"Por vencer","Vigente")))),IF(INDEX(Tareas!$F:$F,MATCH($D10,Tareas!$A:$A,0))="No","No aplica","Revisar")),"Revisar"))) -> No aplica | O10: 46220 | P10: =IF(AND(COUNTA($A10:$D10)=0,O10=""),"",IF(COUNT(Resumen!$B$3:$B$4)<2,"Revisar",IFERROR(IF(INDEX(Tareas!$G:$G,MATCH($D10,Tareas!$A:$A,0))="Sí",IF(O10="","Falta",IF(COUNT(O10)=0,"Revisar",IF(O10<Resumen!$B$3,"Vencida",IF(O10<=Resumen!$B$3+Resumen!$B$4,"Por vencer","Vigente")))),IF(INDEX(Tareas!$G:$G,MATCH($D10,Tareas!$A:$A,0))="No","No aplica","Revisar")),"Revisar"))) -> Vencida | Q10: =IF(COUNTA($A10:$D10)+COUNTIF(E10:P10,"Revisar")=0,"",IF(OR(A10="",B10="",COUNTIF(E10:P10,"Revisar")>0),"Revisar",IF(COUNTIF(E10:P10,"Falta")+COUNTIF(E10:P10,"Vencida")>0,"Con faltantes",IF(COUNTIF(E10:P10,"Por vencer")>0,"Por vencer","Al día")))) -> Con faltantes
A11: Ezequiel Sosa | B11: Sosa, Ezequiel | C11: 29456789 | D11: Electricista | E11: 46444 | F11: =IF(AND(COUNTA($A11:$D11)=0,E11=""),"",IF(COUNT(Resumen!$B$3:$B$4)<2,"Revisar",IFERROR(IF(INDEX(Tareas!$B:$B,MATCH($D11,Tareas!$A:$A,0))="Sí",IF(E11="","Falta",IF(COUNT(E11)=0,"Revisar",IF(E11<Resumen!$B$3,"Vencida",IF(E11<=Resumen!$B$3+Resumen!$B$4,"Por vencer","Vigente")))),IF(INDEX(Tareas!$B:$B,MATCH($D11,Tareas!$A:$A,0))="No","No aplica","Revisar")),"Revisar"))) -> Vigente | G11: 46444 | H11: =IF(AND(COUNTA($A11:$D11)=0,G11=""),"",IF(COUNT(Resumen!$B$3:$B$4)<2,"Revisar",IFERROR(IF(INDEX(Tareas!$C:$C,MATCH($D11,Tareas!$A:$A,0))="Sí",IF(G11="","Falta",IF(COUNT(G11)=0,"Revisar",IF(G11<Resumen!$B$3,"Vencida",IF(G11<=Resumen!$B$3+Resumen!$B$4,"Por vencer","Vigente")))),IF(INDEX(Tareas!$C:$C,MATCH($D11,Tareas!$A:$A,0))="No","No aplica","Revisar")),"Revisar"))) -> Vigente | J11: =IF(AND(COUNTA($A11:$D11)=0,I11=""),"",IF(COUNT(Resumen!$B$3:$B$4)<2,"Revisar",IFERROR(IF(INDEX(Tareas!$D:$D,MATCH($D11,Tareas!$A:$A,0))="Sí",IF(I11="","Falta",IF(COUNT(I11)=0,"Revisar",IF(I11<Resumen!$B$3,"Vencida",IF(I11<=Resumen!$B$3+Resumen!$B$4,"Por vencer","Vigente")))),IF(INDEX(Tareas!$D:$D,MATCH($D11,Tareas!$A:$A,0))="No","No aplica","Revisar")),"Revisar"))) -> No aplica | L11: =IF(AND(COUNTA($A11:$D11)=0,K11=""),"",IF(COUNT(Resumen!$B$3:$B$4)<2,"Revisar",IFERROR(IF(INDEX(Tareas!$E:$E,MATCH($D11,Tareas!$A:$A,0))="Sí",IF(K11="","Falta",IF(COUNT(K11)=0,"Revisar",IF(K11<Resumen!$B$3,"Vencida",IF(K11<=Resumen!$B$3+Resumen!$B$4,"Por vencer","Vigente")))),IF(INDEX(Tareas!$E:$E,MATCH($D11,Tareas!$A:$A,0))="No","No aplica","Revisar")),"Revisar"))) -> No aplica | M11: 46449 | N11: =IF(AND(COUNTA($A11:$D11)=0,M11=""),"",IF(COUNT(Resumen!$B$3:$B$4)<2,"Revisar",IFERROR(IF(INDEX(Tareas!$F:$F,MATCH($D11,Tareas!$A:$A,0))="Sí",IF(M11="","Falta",IF(COUNT(M11)=0,"Revisar",IF(M11<Resumen!$B$3,"Vencida",IF(M11<=Resumen!$B$3+Resumen!$B$4,"Por vencer","Vigente")))),IF(INDEX(Tareas!$F:$F,MATCH($D11,Tareas!$A:$A,0))="No","No aplica","Revisar")),"Revisar"))) -> Vigente | O11: 46689 | P11: =IF(AND(COUNTA($A11:$D11)=0,O11=""),"",IF(COUNT(Resumen!$B$3:$B$4)<2,"Revisar",IFERROR(IF(INDEX(Tareas!$G:$G,MATCH($D11,Tareas!$A:$A,0))="Sí",IF(O11="","Falta",IF(COUNT(O11)=0,"Revisar",IF(O11<Resumen!$B$3,"Vencida",IF(O11<=Resumen!$B$3+Resumen!$B$4,"Por vencer","Vigente")))),IF(INDEX(Tareas!$G:$G,MATCH($D11,Tareas!$A:$A,0))="No","No aplica","Revisar")),"Revisar"))) -> Vigente | Q11: =IF(COUNTA($A11:$D11)+COUNTIF(E11:P11,"Revisar")=0,"",IF(OR(A11="",B11="",COUNTIF(E11:P11,"Revisar")>0),"Revisar",IF(COUNTIF(E11:P11,"Falta")+COUNTIF(E11:P11,"Vencida")>0,"Con faltantes",IF(COUNTIF(E11:P11,"Por vencer")>0,"Por vencer","Al día")))) -> Al día
F12: =IF(AND(COUNTA($A12:$D12)=0,E12=""),"",IF(COUNT(Resumen!$B$3:$B$4)<2,"Revisar",IFERROR(IF(INDEX(Tareas!$B:$B,MATCH($D12,Tareas!$A:$A,0))="Sí",IF(E12="","Falta",IF(COUNT(E12)=0,"Revisar",IF(E12<Resumen!$B$3,"Vencida",IF(E12<=Resumen!$B$3+Resumen!$B$4,"Por vencer","Vigente")))),IF(INDEX(Tareas!$B:$B,MATCH($D12,Tareas!$A:$A,0))="No","No aplica","Revisar")),"Revisar"))) | H12: =IF(AND(COUNTA($A12:$D12)=0,G12=""),"",IF(COUNT(Resumen!$B$3:$B$4)<2,"Revisar",IFERROR(IF(INDEX(Tareas!$C:$C,MATCH($D12,Tareas!$A:$A,0))="Sí",IF(G12="","Falta",IF(COUNT(G12)=0,"Revisar",IF(G12<Resumen!$B$3,"Vencida",IF(G12<=Resumen!$B$3+Resumen!$B$4,"Por vencer","Vigente")))),IF(INDEX(Tareas!$C:$C,MATCH($D12,Tareas!$A:$A,0))="No","No aplica","Revisar")),"Revisar"))) | J12: =IF(AND(COUNTA($A12:$D12)=0,I12=""),"",IF(COUNT(Resumen!$B$3:$B$4)<2,"Revisar",IFERROR(IF(INDEX(Tareas!$D:$D,MATCH($D12,Tareas!$A:$A,0))="Sí",IF(I12="","Falta",IF(COUNT(I12)=0,"Revisar",IF(I12<Resumen!$B$3,"Vencida",IF(I12<=Resumen!$B$3+Resumen!$B$4,"Por vencer","Vigente")))),IF(INDEX(Tareas!$D:$D,MATCH($D12,Tareas!$A:$A,0))="No","No aplica","Revisar")),"Revisar"))) | L12: =IF(AND(COUNTA($A12:$D12)=0,K12=""),"",IF(COUNT(Resumen!$B$3:$B$4)<2,"Revisar",IFERROR(IF(INDEX(Tareas!$E:$E,MATCH($D12,Tareas!$A:$A,0))="Sí",IF(K12="","Falta",IF(COUNT(K12)=0,"Revisar",IF(K12<Resumen!$B$3,"Vencida",IF(K12<=Resumen!$B$3+Resumen!$B$4,"Por vencer","Vigente")))),IF(INDEX(Tareas!$E:$E,MATCH($D12,Tareas!$A:$A,0))="No","No aplica","Revisar")),"Revisar"))) | N12: =IF(AND(COUNTA($A12:$D12)=0,M12=""),"",IF(COUNT(Resumen!$B$3:$B$4)<2,"Revisar",IFERROR(IF(INDEX(Tareas!$F:$F,MATCH($D12,Tareas!$A:$A,0))="Sí",IF(M12="","Falta",IF(COUNT(M12)=0,"Revisar",IF(M12<Resumen!$B$3,"Vencida",IF(M12<=Resumen!$B$3+Resumen!$B$4,"Por vencer","Vigente")))),IF(INDEX(Tareas!$F:$F,MATCH($D12,Tareas!$A:$A,0))="No","No aplica","Revisar")),"Revisar"))) | P12: =IF(AND(COUNTA($A12:$D12)=0,O12=""),"",IF(COUNT(Resumen!$B$3:$B$4)<2,"Revisar",IFERROR(IF(INDEX(Tareas!$G:$G,MATCH($D12,Tareas!$A:$A,0))="Sí",IF(O12="","Falta",IF(COUNT(O12)=0,"Revisar",IF(O12<Resumen!$B$3,"Vencida",IF(O12<=Resumen!$B$3+Resumen!$B$4,"Por vencer","Vigente")))),IF(INDEX(Tareas!$G:$G,MATCH($D12,Tareas!$A:$A,0))="No","No aplica","Revisar")),"Revisar"))) | Q12: =IF(COUNTA($A12:$D12)+COUNTIF(E12:P12,"Revisar")=0,"",IF(OR(A12="",B12="",COUNTIF(E12:P12,"Revisar")>0),"Revisar",IF(COUNTIF(E12:P12,"Falta")+COUNTIF(E12:P12,"Vencida")>0,"Con faltantes",IF(COUNTIF(E12:P12,"Por vencer")>0,"Por vencer","Al día"))))
F13: =IF(AND(COUNTA($A13:$D13)=0,E13=""),"",IF(COUNT(Resumen!$B$3:$B$4)<2,"Revisar",IFERROR(IF(INDEX(Tareas!$B:$B,MATCH($D13,Tareas!$A:$A,0))="Sí",IF(E13="","Falta",IF(COUNT(E13)=0,"Revisar",IF(E13<Resumen!$B$3,"Vencida",IF(E13<=Resumen!$B$3+Resumen!$B$4,"Por vencer","Vigente")))),IF(INDEX(Tareas!$B:$B,MATCH($D13,Tareas!$A:$A,0))="No","No aplica","Revisar")),"Revisar"))) | H13: =IF(AND(COUNTA($A13:$D13)=0,G13=""),"",IF(COUNT(Resumen!$B$3:$B$4)<2,"Revisar",IFERROR(IF(INDEX(Tareas!$C:$C,MATCH($D13,Tareas!$A:$A,0))="Sí",IF(G13="","Falta",IF(COUNT(G13)=0,"Revisar",IF(G13<Resumen!$B$3,"Vencida",IF(G13<=Resumen!$B$3+Resumen!$B$4,"Por vencer","Vigente")))),IF(INDEX(Tareas!$C:$C,MATCH($D13,Tareas!$A:$A,0))="No","No aplica","Revisar")),"Revisar"))) | J13: =IF(AND(COUNTA($A13:$D13)=0,I13=""),"",IF(COUNT(Resumen!$B$3:$B$4)<2,"Revisar",IFERROR(IF(INDEX(Tareas!$D:$D,MATCH($D13,Tareas!$A:$A,0))="Sí",IF(I13="","Falta",IF(COUNT(I13)=0,"Revisar",IF(I13<Resumen!$B$3,"Vencida",IF(I13<=Resumen!$B$3+Resumen!$B$4,"Por vencer","Vigente")))),IF(INDEX(Tareas!$D:$D,MATCH($D13,Tareas!$A:$A,0))="No","No aplica","Revisar")),"Revisar"))) | L13: =IF(AND(COUNTA($A13:$D13)=0,K13=""),"",IF(COUNT(Resumen!$B$3:$B$4)<2,"Revisar",IFERROR(IF(INDEX(Tareas!$E:$E,MATCH($D13,Tareas!$A:$A,0))="Sí",IF(K13="","Falta",IF(COUNT(K13)=0,"Revisar",IF(K13<Resumen!$B$3,"Vencida",IF(K13<=Resumen!$B$3+Resumen!$B$4,"Por vencer","Vigente")))),IF(INDEX(Tareas!$E:$E,MATCH($D13,Tareas!$A:$A,0))="No","No aplica","Revisar")),"Revisar"))) | N13: =IF(AND(COUNTA($A13:$D13)=0,M13=""),"",IF(COUNT(Resumen!$B$3:$B$4)<2,"Revisar",IFERROR(IF(INDEX(Tareas!$F:$F,MATCH($D13,Tareas!$A:$A,0))="Sí",IF(M13="","Falta",IF(COUNT(M13)=0,"Revisar",IF(M13<Resumen!$B$3,"Vencida",IF(M13<=Resumen!$B$3+Resumen!$B$4,"Por vencer","Vigente")))),IF(INDEX(Tareas!$F:$F,MATCH($D13,Tareas!$A:$A,0))="No","No aplica","Revisar")),"Revisar"))) | P13: =IF(AND(COUNTA($A13:$D13)=0,O13=""),"",IF(COUNT(Resumen!$B$3:$B$4)<2,"Revisar",IFERROR(IF(INDEX(Tareas!$G:$G,MATCH($D13,Tareas!$A:$A,0))="Sí",IF(O13="","Falta",IF(COUNT(O13)=0,"Revisar",IF(O13<Resumen!$B$3,"Vencida",IF(O13<=Resumen!$B$3+Resumen!$B$4,"Por vencer","Vigente")))),IF(INDEX(Tareas!$G:$G,MATCH($D13,Tareas!$A:$A,0))="No","No aplica","Revisar")),"Revisar"))) | Q13: =IF(COUNTA($A13:$D13)+COUNTIF(E13:P13,"Revisar")=0,"",IF(OR(A13="",B13="",COUNTIF(E13:P13,"Revisar")>0),"Revisar",IF(COUNTIF(E13:P13,"Falta")+COUNTIF(E13:P13,"Vencida")>0,"Con faltantes",IF(COUNTIF(E13:P13,"Por vencer")>0,"Por vencer","Al día"))))
F14: =IF(AND(COUNTA($A14:$D14)=0,E14=""),"",IF(COUNT(Resumen!$B$3:$B$4)<2,"Revisar",IFERROR(IF(INDEX(Tareas!$B:$B,MATCH($D14,Tareas!$A:$A,0))="Sí",IF(E14="","Falta",IF(COUNT(E14)=0,"Revisar",IF(E14<Resumen!$B$3,"Vencida",IF(E14<=Resumen!$B$3+Resumen!$B$4,"Por vencer","Vigente")))),IF(INDEX(Tareas!$B:$B,MATCH($D14,Tareas!$A:$A,0))="No","No aplica","Revisar")),"Revisar"))) | H14: =IF(AND(COUNTA($A14:$D14)=0,G14=""),"",IF(COUNT(Resumen!$B$3:$B$4)<2,"Revisar",IFERROR(IF(INDEX(Tareas!$C:$C,MATCH($D14,Tareas!$A:$A,0))="Sí",IF(G14="","Falta",IF(COUNT(G14)=0,"Revisar",IF(G14<Resumen!$B$3,"Vencida",IF(G14<=Resumen!$B$3+Resumen!$B$4,"Por vencer","Vigente")))),IF(INDEX(Tareas!$C:$C,MATCH($D14,Tareas!$A:$A,0))="No","No aplica","Revisar")),"Revisar"))) | J14: =IF(AND(COUNTA($A14:$D14)=0,I14=""),"",IF(COUNT(Resumen!$B$3:$B$4)<2,"Revisar",IFERROR(IF(INDEX(Tareas!$D:$D,MATCH($D14,Tareas!$A:$A,0))="Sí",IF(I14="","Falta",IF(COUNT(I14)=0,"Revisar",IF(I14<Resumen!$B$3,"Vencida",IF(I14<=Resumen!$B$3+Resumen!$B$4,"Por vencer","Vigente")))),IF(INDEX(Tareas!$D:$D,MATCH($D14,Tareas!$A:$A,0))="No","No aplica","Revisar")),"Revisar"))) | L14: =IF(AND(COUNTA($A14:$D14)=0,K14=""),"",IF(COUNT(Resumen!$B$3:$B$4)<2,"Revisar",IFERROR(IF(INDEX(Tareas!$E:$E,MATCH($D14,Tareas!$A:$A,0))="Sí",IF(K14="","Falta",IF(COUNT(K14)=0,"Revisar",IF(K14<Resumen!$B$3,"Vencida",IF(K14<=Resumen!$B$3+Resumen!$B$4,"Por vencer","Vigente")))),IF(INDEX(Tareas!$E:$E,MATCH($D14,Tareas!$A:$A,0))="No","No aplica","Revisar")),"Revisar"))) | N14: =IF(AND(COUNTA($A14:$D14)=0,M14=""),"",IF(COUNT(Resumen!$B$3:$B$4)<2,"Revisar",IFERROR(IF(INDEX(Tareas!$F:$F,MATCH($D14,Tareas!$A:$A,0))="Sí",IF(M14="","Falta",IF(COUNT(M14)=0,"Revisar",IF(M14<Resumen!$B$3,"Vencida",IF(M14<=Resumen!$B$3+Resumen!$B$4,"Por vencer","Vigente")))),IF(INDEX(Tareas!$F:$F,MATCH($D14,Tareas!$A:$A,0))="No","No aplica","Revisar")),"Revisar"))) | P14: =IF(AND(COUNTA($A14:$D14)=0,O14=""),"",IF(COUNT(Resumen!$B$3:$B$4)<2,"Revisar",IFERROR(IF(INDEX(Tareas!$G:$G,MATCH($D14,Tareas!$A:$A,0))="Sí",IF(O14="","Falta",IF(COUNT(O14)=0,"Revisar",IF(O14<Resumen!$B$3,"Vencida",IF(O14<=Resumen!$B$3+Resumen!$B$4,"Por vencer","Vigente")))),IF(INDEX(Tareas!$G:$G,MATCH($D14,Tareas!$A:$A,0))="No","No aplica","Revisar")),"Revisar"))) | Q14: =IF(COUNTA($A14:$D14)+COUNTIF(E14:P14,"Revisar")=0,"",IF(OR(A14="",B14="",COUNTIF(E14:P14,"Revisar")>0),"Revisar",IF(COUNTIF(E14:P14,"Falta")+COUNTIF(E14:P14,"Vencida")>0,"Con faltantes",IF(COUNTIF(E14:P14,"Por vencer")>0,"Por vencer","Al día"))))
F15: =IF(AND(COUNTA($A15:$D15)=0,E15=""),"",IF(COUNT(Resumen!$B$3:$B$4)<2,"Revisar",IFERROR(IF(INDEX(Tareas!$B:$B,MATCH($D15,Tareas!$A:$A,0))="Sí",IF(E15="","Falta",IF(COUNT(E15)=0,"Revisar",IF(E15<Resumen!$B$3,"Vencida",IF(E15<=Resumen!$B$3+Resumen!$B$4,"Por vencer","Vigente")))),IF(INDEX(Tareas!$B:$B,MATCH($D15,Tareas!$A:$A,0))="No","No aplica","Revisar")),"Revisar"))) | H15: =IF(AND(COUNTA($A15:$D15)=0,G15=""),"",IF(COUNT(Resumen!$B$3:$B$4)<2,"Revisar",IFERROR(IF(INDEX(Tareas!$C:$C,MATCH($D15,Tareas!$A:$A,0))="Sí",IF(G15="","Falta",IF(COUNT(G15)=0,"Revisar",IF(G15<Resumen!$B$3,"Vencida",IF(G15<=Resumen!$B$3+Resumen!$B$4,"Por vencer","Vigente")))),IF(INDEX(Tareas!$C:$C,MATCH($D15,Tareas!$A:$A,0))="No","No aplica","Revisar")),"Revisar"))) | J15: =IF(AND(COUNTA($A15:$D15)=0,I15=""),"",IF(COUNT(Resumen!$B$3:$B$4)<2,"Revisar",IFERROR(IF(INDEX(Tareas!$D:$D,MATCH($D15,Tareas!$A:$A,0))="Sí",IF(I15="","Falta",IF(COUNT(I15)=0,"Revisar",IF(I15<Resumen!$B$3,"Vencida",IF(I15<=Resumen!$B$3+Resumen!$B$4,"Por vencer","Vigente")))),IF(INDEX(Tareas!$D:$D,MATCH($D15,Tareas!$A:$A,0))="No","No aplica","Revisar")),"Revisar"))) | L15: =IF(AND(COUNTA($A15:$D15)=0,K15=""),"",IF(COUNT(Resumen!$B$3:$B$4)<2,"Revisar",IFERROR(IF(INDEX(Tareas!$E:$E,MATCH($D15,Tareas!$A:$A,0))="Sí",IF(K15="","Falta",IF(COUNT(K15)=0,"Revisar",IF(K15<Resumen!$B$3,"Vencida",IF(K15<=Resumen!$B$3+Resumen!$B$4,"Por vencer","Vigente")))),IF(INDEX(Tareas!$E:$E,MATCH($D15,Tareas!$A:$A,0))="No","No aplica","Revisar")),"Revisar"))) | N15: =IF(AND(COUNTA($A15:$D15)=0,M15=""),"",IF(COUNT(Resumen!$B$3:$B$4)<2,"Revisar",IFERROR(IF(INDEX(Tareas!$F:$F,MATCH($D15,Tareas!$A:$A,0))="Sí",IF(M15="","Falta",IF(COUNT(M15)=0,"Revisar",IF(M15<Resumen!$B$3,"Vencida",IF(M15<=Resumen!$B$3+Resumen!$B$4,"Por vencer","Vigente")))),IF(INDEX(Tareas!$F:$F,MATCH($D15,Tareas!$A:$A,0))="No","No aplica","Revisar")),"Revisar"))) | P15: =IF(AND(COUNTA($A15:$D15)=0,O15=""),"",IF(COUNT(Resumen!$B$3:$B$4)<2,"Revisar",IFERROR(IF(INDEX(Tareas!$G:$G,MATCH($D15,Tareas!$A:$A,0))="Sí",IF(O15="","Falta",IF(COUNT(O15)=0,"Revisar",IF(O15<Resumen!$B$3,"Vencida",IF(O15<=Resumen!$B$3+Resumen!$B$4,"Por vencer","Vigente")))),IF(INDEX(Tareas!$G:$G,MATCH($D15,Tareas!$A:$A,0))="No","No aplica","Revisar")),"Revisar"))) | Q15: =IF(COUNTA($A15:$D15)+COUNTIF(E15:P15,"Revisar")=0,"",IF(OR(A15="",B15="",COUNTIF(E15:P15,"Revisar")>0),"Revisar",IF(COUNTIF(E15:P15,"Falta")+COUNTIF(E15:P15,"Vencida")>0,"Con faltantes",IF(COUNTIF(E15:P15,"Por vencer")>0,"Por vencer","Al día"))))
F16: =IF(AND(COUNTA($A16:$D16)=0,E16=""),"",IF(COUNT(Resumen!$B$3:$B$4)<2,"Revisar",IFERROR(IF(INDEX(Tareas!$B:$B,MATCH($D16,Tareas!$A:$A,0))="Sí",IF(E16="","Falta",IF(COUNT(E16)=0,"Revisar",IF(E16<Resumen!$B$3,"Vencida",IF(E16<=Resumen!$B$3+Resumen!$B$4,"Por vencer","Vigente")))),IF(INDEX(Tareas!$B:$B,MATCH($D16,Tareas!$A:$A,0))="No","No aplica","Revisar")),"Revisar"))) | H16: =IF(AND(COUNTA($A16:$D16)=0,G16=""),"",IF(COUNT(Resumen!$B$3:$B$4)<2,"Revisar",IFERROR(IF(INDEX(Tareas!$C:$C,MATCH($D16,Tareas!$A:$A,0))="Sí",IF(G16="","Falta",IF(COUNT(G16)=0,"Revisar",IF(G16<Resumen!$B$3,"Vencida",IF(G16<=Resumen!$B$3+Resumen!$B$4,"Por vencer","Vigente")))),IF(INDEX(Tareas!$C:$C,MATCH($D16,Tareas!$A:$A,0))="No","No aplica","Revisar")),"Revisar"))) | J16: =IF(AND(COUNTA($A16:$D16)=0,I16=""),"",IF(COUNT(Resumen!$B$3:$B$4)<2,"Revisar",IFERROR(IF(INDEX(Tareas!$D:$D,MATCH($D16,Tareas!$A:$A,0))="Sí",IF(I16="","Falta",IF(COUNT(I16)=0,"Revisar",IF(I16<Resumen!$B$3,"Vencida",IF(I16<=Resumen!$B$3+Resumen!$B$4,"Por vencer","Vigente")))),IF(INDEX(Tareas!$D:$D,MATCH($D16,Tareas!$A:$A,0))="No","No aplica","Revisar")),"Revisar"))) | L16: =IF(AND(COUNTA($A16:$D16)=0,K16=""),"",IF(COUNT(Resumen!$B$3:$B$4)<2,"Revisar",IFERROR(IF(INDEX(Tareas!$E:$E,MATCH($D16,Tareas!$A:$A,0))="Sí",IF(K16="","Falta",IF(COUNT(K16)=0,"Revisar",IF(K16<Resumen!$B$3,"Vencida",IF(K16<=Resumen!$B$3+Resumen!$B$4,"Por vencer","Vigente")))),IF(INDEX(Tareas!$E:$E,MATCH($D16,Tareas!$A:$A,0))="No","No aplica","Revisar")),"Revisar"))) | N16: =IF(AND(COUNTA($A16:$D16)=0,M16=""),"",IF(COUNT(Resumen!$B$3:$B$4)<2,"Revisar",IFERROR(IF(INDEX(Tareas!$F:$F,MATCH($D16,Tareas!$A:$A,0))="Sí",IF(M16="","Falta",IF(COUNT(M16)=0,"Revisar",IF(M16<Resumen!$B$3,"Vencida",IF(M16<=Resumen!$B$3+Resumen!$B$4,"Por vencer","Vigente")))),IF(INDEX(Tareas!$F:$F,MATCH($D16,Tareas!$A:$A,0))="No","No aplica","Revisar")),"Revisar"))) | P16: =IF(AND(COUNTA($A16:$D16)=0,O16=""),"",IF(COUNT(Resumen!$B$3:$B$4)<2,"Revisar",IFERROR(IF(INDEX(Tareas!$G:$G,MATCH($D16,Tareas!$A:$A,0))="Sí",IF(O16="","Falta",IF(COUNT(O16)=0,"Revisar",IF(O16<Resumen!$B$3,"Vencida",IF(O16<=Resumen!$B$3+Resumen!$B$4,"Por vencer","Vigente")))),IF(INDEX(Tareas!$G:$G,MATCH($D16,Tareas!$A:$A,0))="No","No aplica","Revisar")),"Revisar"))) | Q16: =IF(COUNTA($A16:$D16)+COUNTIF(E16:P16,"Revisar")=0,"",IF(OR(A16="",B16="",COUNTIF(E16:P16,"Revisar")>0),"Revisar",IF(COUNTIF(E16:P16,"Falta")+COUNTIF(E16:P16,"Vencida")>0,"Con faltantes",IF(COUNTIF(E16:P16,"Por vencer")>0,"Por vencer","Al día"))))
F17: =IF(AND(COUNTA($A17:$D17)=0,E17=""),"",IF(COUNT(Resumen!$B$3:$B$4)<2,"Revisar",IFERROR(IF(INDEX(Tareas!$B:$B,MATCH($D17,Tareas!$A:$A,0))="Sí",IF(E17="","Falta",IF(COUNT(E17)=0,"Revisar",IF(E17<Resumen!$B$3,"Vencida",IF(E17<=Resumen!$B$3+Resumen!$B$4,"Por vencer","Vigente")))),IF(INDEX(Tareas!$B:$B,MATCH($D17,Tareas!$A:$A,0))="No","No aplica","Revisar")),"Revisar"))) | H17: =IF(AND(COUNTA($A17:$D17)=0,G17=""),"",IF(COUNT(Resumen!$B$3:$B$4)<2,"Revisar",IFERROR(IF(INDEX(Tareas!$C:$C,MATCH($D17,Tareas!$A:$A,0))="Sí",IF(G17="","Falta",IF(COUNT(G17)=0,"Revisar",IF(G17<Resumen!$B$3,"Vencida",IF(G17<=Resumen!$B$3+Resumen!$B$4,"Por vencer","Vigente")))),IF(INDEX(Tareas!$C:$C,MATCH($D17,Tareas!$A:$A,0))="No","No aplica","Revisar")),"Revisar"))) | J17: =IF(AND(COUNTA($A17:$D17)=0,I17=""),"",IF(COUNT(Resumen!$B$3:$B$4)<2,"Revisar",IFERROR(IF(INDEX(Tareas!$D:$D,MATCH($D17,Tareas!$A:$A,0))="Sí",IF(I17="","Falta",IF(COUNT(I17)=0,"Revisar",IF(I17<Resumen!$B$3,"Vencida",IF(I17<=Resumen!$B$3+Resumen!$B$4,"Por vencer","Vigente")))),IF(INDEX(Tareas!$D:$D,MATCH($D17,Tareas!$A:$A,0))="No","No aplica","Revisar")),"Revisar"))) | L17: =IF(AND(COUNTA($A17:$D17)=0,K17=""),"",IF(COUNT(Resumen!$B$3:$B$4)<2,"Revisar",IFERROR(IF(INDEX(Tareas!$E:$E,MATCH($D17,Tareas!$A:$A,0))="Sí",IF(K17="","Falta",IF(COUNT(K17)=0,"Revisar",IF(K17<Resumen!$B$3,"Vencida",IF(K17<=Resumen!$B$3+Resumen!$B$4,"Por vencer","Vigente")))),IF(INDEX(Tareas!$E:$E,MATCH($D17,Tareas!$A:$A,0))="No","No aplica","Revisar")),"Revisar"))) | N17: =IF(AND(COUNTA($A17:$D17)=0,M17=""),"",IF(COUNT(Resumen!$B$3:$B$4)<2,"Revisar",IFERROR(IF(INDEX(Tareas!$F:$F,MATCH($D17,Tareas!$A:$A,0))="Sí",IF(M17="","Falta",IF(COUNT(M17)=0,"Revisar",IF(M17<Resumen!$B$3,"Vencida",IF(M17<=Resumen!$B$3+Resumen!$B$4,"Por vencer","Vigente")))),IF(INDEX(Tareas!$F:$F,MATCH($D17,Tareas!$A:$A,0))="No","No aplica","Revisar")),"Revisar"))) | P17: =IF(AND(COUNTA($A17:$D17)=0,O17=""),"",IF(COUNT(Resumen!$B$3:$B$4)<2,"Revisar",IFERROR(IF(INDEX(Tareas!$G:$G,MATCH($D17,Tareas!$A:$A,0))="Sí",IF(O17="","Falta",IF(COUNT(O17)=0,"Revisar",IF(O17<Resumen!$B$3,"Vencida",IF(O17<=Resumen!$B$3+Resumen!$B$4,"Por vencer","Vigente")))),IF(INDEX(Tareas!$G:$G,MATCH($D17,Tareas!$A:$A,0))="No","No aplica","Revisar")),"Revisar"))) | Q17: =IF(COUNTA($A17:$D17)+COUNTIF(E17:P17,"Revisar")=0,"",IF(OR(A17="",B17="",COUNTIF(E17:P17,"Revisar")>0),"Revisar",IF(COUNTIF(E17:P17,"Falta")+COUNTIF(E17:P17,"Vencida")>0,"Con faltantes",IF(COUNTIF(E17:P17,"Por vencer")>0,"Por vencer","Al día"))))
F18: =IF(AND(COUNTA($A18:$D18)=0,E18=""),"",IF(COUNT(Resumen!$B$3:$B$4)<2,"Revisar",IFERROR(IF(INDEX(Tareas!$B:$B,MATCH($D18,Tareas!$A:$A,0))="Sí",IF(E18="","Falta",IF(COUNT(E18)=0,"Revisar",IF(E18<Resumen!$B$3,"Vencida",IF(E18<=Resumen!$B$3+Resumen!$B$4,"Por vencer","Vigente")))),IF(INDEX(Tareas!$B:$B,MATCH($D18,Tareas!$A:$A,0))="No","No aplica","Revisar")),"Revisar"))) | H18: =IF(AND(COUNTA($A18:$D18)=0,G18=""),"",IF(COUNT(Resumen!$B$3:$B$4)<2,"Revisar",IFERROR(IF(INDEX(Tareas!$C:$C,MATCH($D18,Tareas!$A:$A,0))="Sí",IF(G18="","Falta",IF(COUNT(G18)=0,"Revisar",IF(G18<Resumen!$B$3,"Vencida",IF(G18<=Resumen!$B$3+Resumen!$B$4,"Por vencer","Vigente")))),IF(INDEX(Tareas!$C:$C,MATCH($D18,Tareas!$A:$A,0))="No","No aplica","Revisar")),"Revisar"))) | J18: =IF(AND(COUNTA($A18:$D18)=0,I18=""),"",IF(COUNT(Resumen!$B$3:$B$4)<2,"Revisar",IFERROR(IF(INDEX(Tareas!$D:$D,MATCH($D18,Tareas!$A:$A,0))="Sí",IF(I18="","Falta",IF(COUNT(I18)=0,"Revisar",IF(I18<Resumen!$B$3,"Vencida",IF(I18<=Resumen!$B$3+Resumen!$B$4,"Por vencer","Vigente")))),IF(INDEX(Tareas!$D:$D,MATCH($D18,Tareas!$A:$A,0))="No","No aplica","Revisar")),"Revisar"))) | L18: =IF(AND(COUNTA($A18:$D18)=0,K18=""),"",IF(COUNT(Resumen!$B$3:$B$4)<2,"Revisar",IFERROR(IF(INDEX(Tareas!$E:$E,MATCH($D18,Tareas!$A:$A,0))="Sí",IF(K18="","Falta",IF(COUNT(K18)=0,"Revisar",IF(K18<Resumen!$B$3,"Vencida",IF(K18<=Resumen!$B$3+Resumen!$B$4,"Por vencer","Vigente")))),IF(INDEX(Tareas!$E:$E,MATCH($D18,Tareas!$A:$A,0))="No","No aplica","Revisar")),"Revisar"))) | N18: =IF(AND(COUNTA($A18:$D18)=0,M18=""),"",IF(COUNT(Resumen!$B$3:$B$4)<2,"Revisar",IFERROR(IF(INDEX(Tareas!$F:$F,MATCH($D18,Tareas!$A:$A,0))="Sí",IF(M18="","Falta",IF(COUNT(M18)=0,"Revisar",IF(M18<Resumen!$B$3,"Vencida",IF(M18<=Resumen!$B$3+Resumen!$B$4,"Por vencer","Vigente")))),IF(INDEX(Tareas!$F:$F,MATCH($D18,Tareas!$A:$A,0))="No","No aplica","Revisar")),"Revisar"))) | P18: =IF(AND(COUNTA($A18:$D18)=0,O18=""),"",IF(COUNT(Resumen!$B$3:$B$4)<2,"Revisar",IFERROR(IF(INDEX(Tareas!$G:$G,MATCH($D18,Tareas!$A:$A,0))="Sí",IF(O18="","Falta",IF(COUNT(O18)=0,"Revisar",IF(O18<Resumen!$B$3,"Vencida",IF(O18<=Resumen!$B$3+Resumen!$B$4,"Por vencer","Vigente")))),IF(INDEX(Tareas!$G:$G,MATCH($D18,Tareas!$A:$A,0))="No","No aplica","Revisar")),"Revisar"))) | Q18: =IF(COUNTA($A18:$D18)+COUNTIF(E18:P18,"Revisar")=0,"",IF(OR(A18="",B18="",COUNTIF(E18:P18,"Revisar")>0),"Revisar",IF(COUNTIF(E18:P18,"Falta")+COUNTIF(E18:P18,"Vencida")>0,"Con faltantes",IF(COUNTIF(E18:P18,"Por vencer")>0,"Por vencer","Al día"))))
F19: =IF(AND(COUNTA($A19:$D19)=0,E19=""),"",IF(COUNT(Resumen!$B$3:$B$4)<2,"Revisar",IFERROR(IF(INDEX(Tareas!$B:$B,MATCH($D19,Tareas!$A:$A,0))="Sí",IF(E19="","Falta",IF(COUNT(E19)=0,"Revisar",IF(E19<Resumen!$B$3,"Vencida",IF(E19<=Resumen!$B$3+Resumen!$B$4,"Por vencer","Vigente")))),IF(INDEX(Tareas!$B:$B,MATCH($D19,Tareas!$A:$A,0))="No","No aplica","Revisar")),"Revisar"))) | H19: =IF(AND(COUNTA($A19:$D19)=0,G19=""),"",IF(COUNT(Resumen!$B$3:$B$4)<2,"Revisar",IFERROR(IF(INDEX(Tareas!$C:$C,MATCH($D19,Tareas!$A:$A,0))="Sí",IF(G19="","Falta",IF(COUNT(G19)=0,"Revisar",IF(G19<Resumen!$B$3,"Vencida",IF(G19<=Resumen!$B$3+Resumen!$B$4,"Por vencer","Vigente")))),IF(INDEX(Tareas!$C:$C,MATCH($D19,Tareas!$A:$A,0))="No","No aplica","Revisar")),"Revisar"))) | J19: =IF(AND(COUNTA($A19:$D19)=0,I19=""),"",IF(COUNT(Resumen!$B$3:$B$4)<2,"Revisar",IFERROR(IF(INDEX(Tareas!$D:$D,MATCH($D19,Tareas!$A:$A,0))="Sí",IF(I19="","Falta",IF(COUNT(I19)=0,"Revisar",IF(I19<Resumen!$B$3,"Vencida",IF(I19<=Resumen!$B$3+Resumen!$B$4,"Por vencer","Vigente")))),IF(INDEX(Tareas!$D:$D,MATCH($D19,Tareas!$A:$A,0))="No","No aplica","Revisar")),"Revisar"))) | L19: =IF(AND(COUNTA($A19:$D19)=0,K19=""),"",IF(COUNT(Resumen!$B$3:$B$4)<2,"Revisar",IFERROR(IF(INDEX(Tareas!$E:$E,MATCH($D19,Tareas!$A:$A,0))="Sí",IF(K19="","Falta",IF(COUNT(K19)=0,"Revisar",IF(K19<Resumen!$B$3,"Vencida",IF(K19<=Resumen!$B$3+Resumen!$B$4,"Por vencer","Vigente")))),IF(INDEX(Tareas!$E:$E,MATCH($D19,Tareas!$A:$A,0))="No","No aplica","Revisar")),"Revisar"))) | N19: =IF(AND(COUNTA($A19:$D19)=0,M19=""),"",IF(COUNT(Resumen!$B$3:$B$4)<2,"Revisar",IFERROR(IF(INDEX(Tareas!$F:$F,MATCH($D19,Tareas!$A:$A,0))="Sí",IF(M19="","Falta",IF(COUNT(M19)=0,"Revisar",IF(M19<Resumen!$B$3,"Vencida",IF(M19<=Resumen!$B$3+Resumen!$B$4,"Por vencer","Vigente")))),IF(INDEX(Tareas!$F:$F,MATCH($D19,Tareas!$A:$A,0))="No","No aplica","Revisar")),"Revisar"))) | P19: =IF(AND(COUNTA($A19:$D19)=0,O19=""),"",IF(COUNT(Resumen!$B$3:$B$4)<2,"Revisar",IFERROR(IF(INDEX(Tareas!$G:$G,MATCH($D19,Tareas!$A:$A,0))="Sí",IF(O19="","Falta",IF(COUNT(O19)=0,"Revisar",IF(O19<Resumen!$B$3,"Vencida",IF(O19<=Resumen!$B$3+Resumen!$B$4,"Por vencer","Vigente")))),IF(INDEX(Tareas!$G:$G,MATCH($D19,Tareas!$A:$A,0))="No","No aplica","Revisar")),"Revisar"))) | Q19: =IF(COUNTA($A19:$D19)+COUNTIF(E19:P19,"Revisar")=0,"",IF(OR(A19="",B19="",COUNTIF(E19:P19,"Revisar")>0),"Revisar",IF(COUNTIF(E19:P19,"Falta")+COUNTIF(E19:P19,"Vencida")>0,"Con faltantes",IF(COUNTIF(E19:P19,"Por vencer")>0,"Por vencer","Al día"))))
F20: =IF(AND(COUNTA($A20:$D20)=0,E20=""),"",IF(COUNT(Resumen!$B$3:$B$4)<2,"Revisar",IFERROR(IF(INDEX(Tareas!$B:$B,MATCH($D20,Tareas!$A:$A,0))="Sí",IF(E20="","Falta",IF(COUNT(E20)=0,"Revisar",IF(E20<Resumen!$B$3,"Vencida",IF(E20<=Resumen!$B$3+Resumen!$B$4,"Por vencer","Vigente")))),IF(INDEX(Tareas!$B:$B,MATCH($D20,Tareas!$A:$A,0))="No","No aplica","Revisar")),"Revisar"))) | H20: =IF(AND(COUNTA($A20:$D20)=0,G20=""),"",IF(COUNT(Resumen!$B$3:$B$4)<2,"Revisar",IFERROR(IF(INDEX(Tareas!$C:$C,MATCH($D20,Tareas!$A:$A,0))="Sí",IF(G20="","Falta",IF(COUNT(G20)=0,"Revisar",IF(G20<Resumen!$B$3,"Vencida",IF(G20<=Resumen!$B$3+Resumen!$B$4,"Por vencer","Vigente")))),IF(INDEX(Tareas!$C:$C,MATCH($D20,Tareas!$A:$A,0))="No","No aplica","Revisar")),"Revisar"))) | J20: =IF(AND(COUNTA($A20:$D20)=0,I20=""),"",IF(COUNT(Resumen!$B$3:$B$4)<2,"Revisar",IFERROR(IF(INDEX(Tareas!$D:$D,MATCH($D20,Tareas!$A:$A,0))="Sí",IF(I20="","Falta",IF(COUNT(I20)=0,"Revisar",IF(I20<Resumen!$B$3,"Vencida",IF(I20<=Resumen!$B$3+Resumen!$B$4,"Por vencer","Vigente")))),IF(INDEX(Tareas!$D:$D,MATCH($D20,Tareas!$A:$A,0))="No","No aplica","Revisar")),"Revisar"))) | L20: =IF(AND(COUNTA($A20:$D20)=0,K20=""),"",IF(COUNT(Resumen!$B$3:$B$4)<2,"Revisar",IFERROR(IF(INDEX(Tareas!$E:$E,MATCH($D20,Tareas!$A:$A,0))="Sí",IF(K20="","Falta",IF(COUNT(K20)=0,"Revisar",IF(K20<Resumen!$B$3,"Vencida",IF(K20<=Resumen!$B$3+Resumen!$B$4,"Por vencer","Vigente")))),IF(INDEX(Tareas!$E:$E,MATCH($D20,Tareas!$A:$A,0))="No","No aplica","Revisar")),"Revisar"))) | N20: =IF(AND(COUNTA($A20:$D20)=0,M20=""),"",IF(COUNT(Resumen!$B$3:$B$4)<2,"Revisar",IFERROR(IF(INDEX(Tareas!$F:$F,MATCH($D20,Tareas!$A:$A,0))="Sí",IF(M20="","Falta",IF(COUNT(M20)=0,"Revisar",IF(M20<Resumen!$B$3,"Vencida",IF(M20<=Resumen!$B$3+Resumen!$B$4,"Por vencer","Vigente")))),IF(INDEX(Tareas!$F:$F,MATCH($D20,Tareas!$A:$A,0))="No","No aplica","Revisar")),"Revisar"))) | P20: =IF(AND(COUNTA($A20:$D20)=0,O20=""),"",IF(COUNT(Resumen!$B$3:$B$4)<2,"Revisar",IFERROR(IF(INDEX(Tareas!$G:$G,MATCH($D20,Tareas!$A:$A,0))="Sí",IF(O20="","Falta",IF(COUNT(O20)=0,"Revisar",IF(O20<Resumen!$B$3,"Vencida",IF(O20<=Resumen!$B$3+Resumen!$B$4,"Por vencer","Vigente")))),IF(INDEX(Tareas!$G:$G,MATCH($D20,Tareas!$A:$A,0))="No","No aplica","Revisar")),"Revisar"))) | Q20: =IF(COUNTA($A20:$D20)+COUNTIF(E20:P20,"Revisar")=0,"",IF(OR(A20="",B20="",COUNTIF(E20:P20,"Revisar")>0),"Revisar",IF(COUNTIF(E20:P20,"Falta")+COUNTIF(E20:P20,"Vencida")>0,"Con faltantes",IF(COUNTIF(E20:P20,"Por vencer")>0,"Por vencer","Al día"))))
F21: =IF(AND(COUNTA($A21:$D21)=0,E21=""),"",IF(COUNT(Resumen!$B$3:$B$4)<2,"Revisar",IFERROR(IF(INDEX(Tareas!$B:$B,MATCH($D21,Tareas!$A:$A,0))="Sí",IF(E21="","Falta",IF(COUNT(E21)=0,"Revisar",IF(E21<Resumen!$B$3,"Vencida",IF(E21<=Resumen!$B$3+Resumen!$B$4,"Por vencer","Vigente")))),IF(INDEX(Tareas!$B:$B,MATCH($D21,Tareas!$A:$A,0))="No","No aplica","Revisar")),"Revisar"))) | H21: =IF(AND(COUNTA($A21:$D21)=0,G21=""),"",IF(COUNT(Resumen!$B$3:$B$4)<2,"Revisar",IFERROR(IF(INDEX(Tareas!$C:$C,MATCH($D21,Tareas!$A:$A,0))="Sí",IF(G21="","Falta",IF(COUNT(G21)=0,"Revisar",IF(G21<Resumen!$B$3,"Vencida",IF(G21<=Resumen!$B$3+Resumen!$B$4,"Por vencer","Vigente")))),IF(INDEX(Tareas!$C:$C,MATCH($D21,Tareas!$A:$A,0))="No","No aplica","Revisar")),"Revisar"))) | J21: =IF(AND(COUNTA($A21:$D21)=0,I21=""),"",IF(COUNT(Resumen!$B$3:$B$4)<2,"Revisar",IFERROR(IF(INDEX(Tareas!$D:$D,MATCH($D21,Tareas!$A:$A,0))="Sí",IF(I21="","Falta",IF(COUNT(I21)=0,"Revisar",IF(I21<Resumen!$B$3,"Vencida",IF(I21<=Resumen!$B$3+Resumen!$B$4,"Por vencer","Vigente")))),IF(INDEX(Tareas!$D:$D,MATCH($D21,Tareas!$A:$A,0))="No","No aplica","Revisar")),"Revisar"))) | L21: =IF(AND(COUNTA($A21:$D21)=0,K21=""),"",IF(COUNT(Resumen!$B$3:$B$4)<2,"Revisar",IFERROR(IF(INDEX(Tareas!$E:$E,MATCH($D21,Tareas!$A:$A,0))="Sí",IF(K21="","Falta",IF(COUNT(K21)=0,"Revisar",IF(K21<Resumen!$B$3,"Vencida",IF(K21<=Resumen!$B$3+Resumen!$B$4,"Por vencer","Vigente")))),IF(INDEX(Tareas!$E:$E,MATCH($D21,Tareas!$A:$A,0))="No","No aplica","Revisar")),"Revisar"))) | N21: =IF(AND(COUNTA($A21:$D21)=0,M21=""),"",IF(COUNT(Resumen!$B$3:$B$4)<2,"Revisar",IFERROR(IF(INDEX(Tareas!$F:$F,MATCH($D21,Tareas!$A:$A,0))="Sí",IF(M21="","Falta",IF(COUNT(M21)=0,"Revisar",IF(M21<Resumen!$B$3,"Vencida",IF(M21<=Resumen!$B$3+Resumen!$B$4,"Por vencer","Vigente")))),IF(INDEX(Tareas!$F:$F,MATCH($D21,Tareas!$A:$A,0))="No","No aplica","Revisar")),"Revisar"))) | P21: =IF(AND(COUNTA($A21:$D21)=0,O21=""),"",IF(COUNT(Resumen!$B$3:$B$4)<2,"Revisar",IFERROR(IF(INDEX(Tareas!$G:$G,MATCH($D21,Tareas!$A:$A,0))="Sí",IF(O21="","Falta",IF(COUNT(O21)=0,"Revisar",IF(O21<Resumen!$B$3,"Vencida",IF(O21<=Resumen!$B$3+Resumen!$B$4,"Por vencer","Vigente")))),IF(INDEX(Tareas!$G:$G,MATCH($D21,Tareas!$A:$A,0))="No","No aplica","Revisar")),"Revisar"))) | Q21: =IF(COUNTA($A21:$D21)+COUNTIF(E21:P21,"Revisar")=0,"",IF(OR(A21="",B21="",COUNTIF(E21:P21,"Revisar")>0),"Revisar",IF(COUNTIF(E21:P21,"Falta")+COUNTIF(E21:P21,"Vencida")>0,"Con faltantes",IF(COUNTIF(E21:P21,"Por vencer")>0,"Por vencer","Al día"))))
F22: =IF(AND(COUNTA($A22:$D22)=0,E22=""),"",IF(COUNT(Resumen!$B$3:$B$4)<2,"Revisar",IFERROR(IF(INDEX(Tareas!$B:$B,MATCH($D22,Tareas!$A:$A,0))="Sí",IF(E22="","Falta",IF(COUNT(E22)=0,"Revisar",IF(E22<Resumen!$B$3,"Vencida",IF(E22<=Resumen!$B$3+Resumen!$B$4,"Por vencer","Vigente")))),IF(INDEX(Tareas!$B:$B,MATCH($D22,Tareas!$A:$A,0))="No","No aplica","Revisar")),"Revisar"))) | H22: =IF(AND(COUNTA($A22:$D22)=0,G22=""),"",IF(COUNT(Resumen!$B$3:$B$4)<2,"Revisar",IFERROR(IF(INDEX(Tareas!$C:$C,MATCH($D22,Tareas!$A:$A,0))="Sí",IF(G22="","Falta",IF(COUNT(G22)=0,"Revisar",IF(G22<Resumen!$B$3,"Vencida",IF(G22<=Resumen!$B$3+Resumen!$B$4,"Por vencer","Vigente")))),IF(INDEX(Tareas!$C:$C,MATCH($D22,Tareas!$A:$A,0))="No","No aplica","Revisar")),"Revisar"))) | J22: =IF(AND(COUNTA($A22:$D22)=0,I22=""),"",IF(COUNT(Resumen!$B$3:$B$4)<2,"Revisar",IFERROR(IF(INDEX(Tareas!$D:$D,MATCH($D22,Tareas!$A:$A,0))="Sí",IF(I22="","Falta",IF(COUNT(I22)=0,"Revisar",IF(I22<Resumen!$B$3,"Vencida",IF(I22<=Resumen!$B$3+Resumen!$B$4,"Por vencer","Vigente")))),IF(INDEX(Tareas!$D:$D,MATCH($D22,Tareas!$A:$A,0))="No","No aplica","Revisar")),"Revisar"))) | L22: =IF(AND(COUNTA($A22:$D22)=0,K22=""),"",IF(COUNT(Resumen!$B$3:$B$4)<2,"Revisar",IFERROR(IF(INDEX(Tareas!$E:$E,MATCH($D22,Tareas!$A:$A,0))="Sí",IF(K22="","Falta",IF(COUNT(K22)=0,"Revisar",IF(K22<Resumen!$B$3,"Vencida",IF(K22<=Resumen!$B$3+Resumen!$B$4,"Por vencer","Vigente")))),IF(INDEX(Tareas!$E:$E,MATCH($D22,Tareas!$A:$A,0))="No","No aplica","Revisar")),"Revisar"))) | N22: =IF(AND(COUNTA($A22:$D22)=0,M22=""),"",IF(COUNT(Resumen!$B$3:$B$4)<2,"Revisar",IFERROR(IF(INDEX(Tareas!$F:$F,MATCH($D22,Tareas!$A:$A,0))="Sí",IF(M22="","Falta",IF(COUNT(M22)=0,"Revisar",IF(M22<Resumen!$B$3,"Vencida",IF(M22<=Resumen!$B$3+Resumen!$B$4,"Por vencer","Vigente")))),IF(INDEX(Tareas!$F:$F,MATCH($D22,Tareas!$A:$A,0))="No","No aplica","Revisar")),"Revisar"))) | P22: =IF(AND(COUNTA($A22:$D22)=0,O22=""),"",IF(COUNT(Resumen!$B$3:$B$4)<2,"Revisar",IFERROR(IF(INDEX(Tareas!$G:$G,MATCH($D22,Tareas!$A:$A,0))="Sí",IF(O22="","Falta",IF(COUNT(O22)=0,"Revisar",IF(O22<Resumen!$B$3,"Vencida",IF(O22<=Resumen!$B$3+Resumen!$B$4,"Por vencer","Vigente")))),IF(INDEX(Tareas!$G:$G,MATCH($D22,Tareas!$A:$A,0))="No","No aplica","Revisar")),"Revisar"))) | Q22: =IF(COUNTA($A22:$D22)+COUNTIF(E22:P22,"Revisar")=0,"",IF(OR(A22="",B22="",COUNTIF(E22:P22,"Revisar")>0),"Revisar",IF(COUNTIF(E22:P22,"Falta")+COUNTIF(E22:P22,"Vencida")>0,"Con faltantes",IF(COUNTIF(E22:P22,"Por vencer")>0,"Por vencer","Al día"))))
F23: =IF(AND(COUNTA($A23:$D23)=0,E23=""),"",IF(COUNT(Resumen!$B$3:$B$4)<2,"Revisar",IFERROR(IF(INDEX(Tareas!$B:$B,MATCH($D23,Tareas!$A:$A,0))="Sí",IF(E23="","Falta",IF(COUNT(E23)=0,"Revisar",IF(E23<Resumen!$B$3,"Vencida",IF(E23<=Resumen!$B$3+Resumen!$B$4,"Por vencer","Vigente")))),IF(INDEX(Tareas!$B:$B,MATCH($D23,Tareas!$A:$A,0))="No","No aplica","Revisar")),"Revisar"))) | H23: =IF(AND(COUNTA($A23:$D23)=0,G23=""),"",IF(COUNT(Resumen!$B$3:$B$4)<2,"Revisar",IFERROR(IF(INDEX(Tareas!$C:$C,MATCH($D23,Tareas!$A:$A,0))="Sí",IF(G23="","Falta",IF(COUNT(G23)=0,"Revisar",IF(G23<Resumen!$B$3,"Vencida",IF(G23<=Resumen!$B$3+Resumen!$B$4,"Por vencer","Vigente")))),IF(INDEX(Tareas!$C:$C,MATCH($D23,Tareas!$A:$A,0))="No","No aplica","Revisar")),"Revisar"))) | J23: =IF(AND(COUNTA($A23:$D23)=0,I23=""),"",IF(COUNT(Resumen!$B$3:$B$4)<2,"Revisar",IFERROR(IF(INDEX(Tareas!$D:$D,MATCH($D23,Tareas!$A:$A,0))="Sí",IF(I23="","Falta",IF(COUNT(I23)=0,"Revisar",IF(I23<Resumen!$B$3,"Vencida",IF(I23<=Resumen!$B$3+Resumen!$B$4,"Por vencer","Vigente")))),IF(INDEX(Tareas!$D:$D,MATCH($D23,Tareas!$A:$A,0))="No","No aplica","Revisar")),"Revisar"))) | L23: =IF(AND(COUNTA($A23:$D23)=0,K23=""),"",IF(COUNT(Resumen!$B$3:$B$4)<2,"Revisar",IFERROR(IF(INDEX(Tareas!$E:$E,MATCH($D23,Tareas!$A:$A,0))="Sí",IF(K23="","Falta",IF(COUNT(K23)=0,"Revisar",IF(K23<Resumen!$B$3,"Vencida",IF(K23<=Resumen!$B$3+Resumen!$B$4,"Por vencer","Vigente")))),IF(INDEX(Tareas!$E:$E,MATCH($D23,Tareas!$A:$A,0))="No","No aplica","Revisar")),"Revisar"))) | N23: =IF(AND(COUNTA($A23:$D23)=0,M23=""),"",IF(COUNT(Resumen!$B$3:$B$4)<2,"Revisar",IFERROR(IF(INDEX(Tareas!$F:$F,MATCH($D23,Tareas!$A:$A,0))="Sí",IF(M23="","Falta",IF(COUNT(M23)=0,"Revisar",IF(M23<Resumen!$B$3,"Vencida",IF(M23<=Resumen!$B$3+Resumen!$B$4,"Por vencer","Vigente")))),IF(INDEX(Tareas!$F:$F,MATCH($D23,Tareas!$A:$A,0))="No","No aplica","Revisar")),"Revisar"))) | P23: =IF(AND(COUNTA($A23:$D23)=0,O23=""),"",IF(COUNT(Resumen!$B$3:$B$4)<2,"Revisar",IFERROR(IF(INDEX(Tareas!$G:$G,MATCH($D23,Tareas!$A:$A,0))="Sí",IF(O23="","Falta",IF(COUNT(O23)=0,"Revisar",IF(O23<Resumen!$B$3,"Vencida",IF(O23<=Resumen!$B$3+Resumen!$B$4,"Por vencer","Vigente")))),IF(INDEX(Tareas!$G:$G,MATCH($D23,Tareas!$A:$A,0))="No","No aplica","Revisar")),"Revisar"))) | Q23: =IF(COUNTA($A23:$D23)+COUNTIF(E23:P23,"Revisar")=0,"",IF(OR(A23="",B23="",COUNTIF(E23:P23,"Revisar")>0),"Revisar",IF(COUNTIF(E23:P23,"Falta")+COUNTIF(E23:P23,"Vencida")>0,"Con faltantes",IF(COUNTIF(E23:P23,"Por vencer")>0,"Por vencer","Al día"))))
... F311: =IF(AND(COUNTA($A311:$D311)=0,E311=""),"",IF(COUNT(Resumen!$B$3:$B$4)<2,"Revisar",IFERROR(IF(INDEX(Tareas!$B:$B,MATCH($D311,Tareas!$A:$A,0))="Sí",IF(E311="","Falta",IF(COUNT(E311)=0,"Revisar",IF(E311<Resumen!$B$3,"Vencida",IF(E311<=Resumen!$B$3+Resumen!$B$4,"Por vencer","Vigente")))),IF(INDEX(Tareas!$B:$B,MATCH($D311,Tareas!$A:$A,0))="No","No aplica","Revisar")),"Revisar"))) | H311: =IF(AND(COUNTA($A311:$D311)=0,G311=""),"",IF(COUNT(Resumen!$B$3:$B$4)<2,"Revisar",IFERROR(IF(INDEX(Tareas!$C:$C,MATCH($D311,Tareas!$A:$A,0))="Sí",IF(G311="","Falta",IF(COUNT(G311)=0,"Revisar",IF(G311<Resumen!$B$3,"Vencida",IF(G311<=Resumen!$B$3+Resumen!$B$4,"Por vencer","Vigente")))),IF(INDEX(Tareas!$C:$C,MATCH($D311,Tareas!$A:$A,0))="No","No aplica","Revisar")),"Revisar"))) | J311: =IF(AND(COUNTA($A311:$D311)=0,I311=""),"",IF(COUNT(Resumen!$B$3:$B$4)<2,"Revisar",IFERROR(IF(INDEX(Tareas!$D:$D,MATCH($D311,Tareas!$A:$A,0))="Sí",IF(I311="","Falta",IF(COUNT(I311)=0,"Revisar",IF(I311<Resumen!$B$3,"Vencida",IF(I311<=Resumen!$B$3+Resumen!$B$4,"Por vencer","Vigente")))),IF(INDEX(Tareas!$D:$D,MATCH($D311,Tareas!$A:$A,0))="No","No aplica","Revisar")),"Revisar"))) | L311: =IF(AND(COUNTA($A311:$D311)=0,K311=""),"",IF(COUNT(Resumen!$B$3:$B$4)<2,"Revisar",IFERROR(IF(INDEX(Tareas!$E:$E,MATCH($D311,Tareas!$A:$A,0))="Sí",IF(K311="","Falta",IF(COUNT(K311)=0,"Revisar",IF(K311<Resumen!$B$3,"Vencida",IF(K311<=Resumen!$B$3+Resumen!$B$4,"Por vencer","Vigente")))),IF(INDEX(Tareas!$E:$E,MATCH($D311,Tareas!$A:$A,0))="No","No aplica","Revisar")),"Revisar"))) | N311: =IF(AND(COUNTA($A311:$D311)=0,M311=""),"",IF(COUNT(Resumen!$B$3:$B$4)<2,"Revisar",IFERROR(IF(INDEX(Tareas!$F:$F,MATCH($D311,Tareas!$A:$A,0))="Sí",IF(M311="","Falta",IF(COUNT(M311)=0,"Revisar",IF(M311<Resumen!$B$3,"Vencida",IF(M311<=Resumen!$B$3+Resumen!$B$4,"Por vencer","Vigente")))),IF(INDEX(Tareas!$F:$F,MATCH($D311,Tareas!$A:$A,0))="No","No aplica","Revisar")),"Revisar"))) | P311: =IF(AND(COUNTA($A311:$D311)=0,O311=""),"",IF(COUNT(Resumen!$B$3:$B$4)<2,"Revisar",IFERROR(IF(INDEX(Tareas!$G:$G,MATCH($D311,Tareas!$A:$A,0))="Sí",IF(O311="","Falta",IF(COUNT(O311)=0,"Revisar",IF(O311<Resumen!$B$3,"Vencida",IF(O311<=Resumen!$B$3+Resumen!$B$4,"Por vencer","Vigente")))),IF(INDEX(Tareas!$G:$G,MATCH($D311,Tareas!$A:$A,0))="No","No aplica","Revisar")),"Revisar"))) | Q311: =IF(COUNTA($A311:$D311)+COUNTIF(E311:P311,"Revisar")=0,"",IF(OR(A311="",B311="",COUNTIF(E311:P311,"Revisar")>0),"Revisar",IF(COUNTIF(E311:P311,"Falta")+COUNTIF(E311:P311,"Vencida")>0,"Con faltantes",IF(COUNTIF(E311:P311,"Por vencer")>0,"Por vencer","Al día"))))

Sheet Tareas
A1: Tarea o rol | B1: Inducción del sitio | C1: Uso de EPP | D1: Trabajo en altura | E1: Trabajo en caliente | F1: Riesgo eléctrico y bloqueo | G1: Licencia o matrícula | H1: Control
